BEGIN:VCALENDAR
VERSION:2.0
PRODID:-//AusschreibungsRadar//Timeline//DE
CALSCALE:GREGORIAN
METHOD:PUBLISH
X-WR-CALNAME:Projekt Projekt- und Beratungsleistungen zur Strategieumsetzung
X-WR-TIMEZONE:Europe/Berlin
BEGIN:VEVENT
UID:f584660e81340b35@ausschreibungsradar.com
DTSTAMP:20260425T233433Z
DTSTART;VALUE=DATE:20250115
DTEND;VALUE=DATE:20250115
SUMMARY:Angebotsfrist — Projekt- und Beratungsleistungen zur Strategieumsetzung
DESCRIPTION:Phase: Ausschreibung | Beschreibung: Angebote werden eingeholt | Link: https://ausschreibungsradar.com/ausschreibung/e567cf90-e5f4-4cf4-a522-7eb8e8bcd64c/
URL:https://ausschreibungsradar.com/ausschreibung/e567cf90-e5f4-4cf4-a522-7eb8e8bcd64c/
END:VEVENT
BEGIN:VEVENT
UID:ae42a0287199fbc5@ausschreibungsradar.com
DTSTAMP:20260425T233433Z
DTSTART;VALUE=DATE:20241205
DTEND;VALUE=DATE:20241205
SUMMARY:Ausschreibung — Projekt- und Beratungsleistungen zur Strategieumsetzung
DESCRIPTION:Phase: Ausschreibung | Beschreibung: Offizielle Ausschreibung mit Bieterfrist. | Link: https://ausschreibungsradar.com/ausschreibung/fba30fe2-8285-4191-850e-c32a50c78f60/
URL:https://ausschreibungsradar.com/ausschreibung/fba30fe2-8285-4191-850e-c32a50c78f60/
END:VEVENT
BEGIN:VEVENT
UID:2a405152f6bd76ac@ausschreibungsradar.com
DTSTAMP:20260425T233433Z
DTSTART;VALUE=DATE:20250402
DTEND;VALUE=DATE:20250402
SUMMARY:Vergabeergebnis — Projekt- und Beratungsleistungen zur Strategieumsetzung
DESCRIPTION:Phase: Vergabeergebnis | Beschreibung: Auftrag wurde zugeschlagen | Link: https://ausschreibungsradar.com/ausschreibung/ed84f696-9cda-4186-8305-923816ce5e73/ | Geschätzter Wert: 1 €
URL:https://ausschreibungsradar.com/ausschreibung/ed84f696-9cda-4186-8305-923816ce5e73/
END:VEVENT
END:VCALENDAR
