BEGIN:VCALENDAR
VERSION:2.0
PRODID:-//AusschreibungsRadar//Timeline//DE
CALSCALE:GREGORIAN
METHOD:PUBLISH
X-WR-CALNAME:Projekt GTL-LV 08 Elektroarbeiten 
X-WR-TIMEZONE:Europe/Berlin
BEGIN:VEVENT
UID:42368cfbdce3430d@ausschreibungsradar.com
DTSTAMP:20260425T102710Z
DTSTART;VALUE=DATE:20260126
DTEND;VALUE=DATE:20260126
SUMMARY:Angebotsfrist — GTL-LV 08 Elektroarbeiten 
DESCRIPTION:Phase: Ausschreibung | Beschreibung: Angebote werden eingeholt | Link: https://ausschreibungsradar.com/ausschreibung/e570a1e0-a439-48e5-bdc8-87a917a7c916/
URL:https://ausschreibungsradar.com/ausschreibung/e570a1e0-a439-48e5-bdc8-87a917a7c916/
END:VEVENT
BEGIN:VEVENT
UID:3588c9f6abebae0f@ausschreibungsradar.com
DTSTAMP:20260425T102710Z
DTSTART;VALUE=DATE:20251211
DTEND;VALUE=DATE:20251211
SUMMARY:Ausschreibung — GTL-LV 08 Elektroarbeiten 
DESCRIPTION:Phase: Ausschreibung | Beschreibung: Offizielle Ausschreibung mit Bieterfrist. | Link: https://ausschreibungsradar.com/ausschreibung/ef9d06c7-9b1b-43ff-8b4d-600ec60953b0/
URL:https://ausschreibungsradar.com/ausschreibung/ef9d06c7-9b1b-43ff-8b4d-600ec60953b0/
END:VEVENT
BEGIN:VEVENT
UID:e7cbbfcdf481f593@ausschreibungsradar.com
DTSTAMP:20260425T102710Z
DTSTART;VALUE=DATE:20260309
DTEND;VALUE=DATE:20260309
SUMMARY:Vergabeergebnis — GTL-LV 08 Elektroarbeiten 
DESCRIPTION:Phase: Vergabeergebnis | Beschreibung: Auftrag wurde zugeschlagen | Link: https://ausschreibungsradar.com/ausschreibung/b778faa8-535b-4cd0-a518-4a84b200e073/
URL:https://ausschreibungsradar.com/ausschreibung/b778faa8-535b-4cd0-a518-4a84b200e073/
END:VEVENT
END:VCALENDAR
