BEGIN:VCALENDAR
VERSION:2.0
PRODID:-//AusschreibungsRadar//Timeline//DE
CALSCALE:GREGORIAN
METHOD:PUBLISH
X-WR-CALNAME:Projekt Planungsleistungen für das Vorhaben „Kloster Malchow Haus 1 
X-WR-TIMEZONE:Europe/Berlin
BEGIN:VEVENT
UID:0c34edbf47caf2aa@ausschreibungsradar.com
DTSTAMP:20260425T220807Z
DTSTART;VALUE=DATE:20240517
DTEND;VALUE=DATE:20240517
SUMMARY:Zuschlag — Planungsleistungen für das Vorhaben „Kloster Malchow Haus 1 
DESCRIPTION:Phase: Zuschlag | Beschreibung: Vergabeergebnis — Auftrag wurde erteilt oder Verfahren beendet. | Link: https://ausschreibungsradar.com/ausschreibung/b9737654-f6fa-4c64-a269-00fcca252dfe/
URL:https://ausschreibungsradar.com/ausschreibung/b9737654-f6fa-4c64-a269-00fcca252dfe/
END:VEVENT
BEGIN:VEVENT
UID:4ccf80a10f8e8295@ausschreibungsradar.com
DTSTAMP:20260425T220807Z
DTSTART;VALUE=DATE:20240612
DTEND;VALUE=DATE:20240612
SUMMARY:Ausschreibung — Planungsleistungen für das Vorhaben „Kloster Malchow Haus 1 
DESCRIPTION:Phase: Ausschreibung | Beschreibung: Angebote werden eingeholt | Link: https://ausschreibungsradar.com/ausschreibung/e650d10e-8a64-4185-b92b-fe4f118caae7/ | Geschätzter Wert: 337139 €
URL:https://ausschreibungsradar.com/ausschreibung/e650d10e-8a64-4185-b92b-fe4f118caae7/
END:VEVENT
BEGIN:VEVENT
UID:61ba86b979cc52c1@ausschreibungsradar.com
DTSTAMP:20260425T220807Z
DTSTART;VALUE=DATE:20240614
DTEND;VALUE=DATE:20240614
SUMMARY:Ausschreibung — Planungsleistungen für das Vorhaben „Kloster Malchow Haus 1 
DESCRIPTION:Phase: Ausschreibung | Beschreibung: Offizielle Ausschreibung mit Bieterfrist. | Link: https://ausschreibungsradar.com/ausschreibung/ted-352960-2024/
URL:https://ausschreibungsradar.com/ausschreibung/ted-352960-2024/
END:VEVENT
BEGIN:VEVENT
UID:4c29c3ce51924b3d@ausschreibungsradar.com
DTSTAMP:20260425T220807Z
DTSTART;VALUE=DATE:20240828
DTEND;VALUE=DATE:20240828
SUMMARY:Vergabeergebnis — Planungsleistungen für das Vorhaben „Kloster Malchow Haus 1 
DESCRIPTION:Phase: Vergabeergebnis | Beschreibung: Verfahren beendet ohne Vergabe | Link: https://ausschreibungsradar.com/ausschreibung/e639b71e-714c-480d-b1de-8b783f797a88/
URL:https://ausschreibungsradar.com/ausschreibung/e639b71e-714c-480d-b1de-8b783f797a88/
END:VEVENT
END:VCALENDAR
