BEGIN:VCALENDAR
VERSION:2.0
PRODID:-//AusschreibungsRadar//Timeline//DE
CALSCALE:GREGORIAN
METHOD:PUBLISH
X-WR-CALNAME:Projekt Ausschreibung Gebäudereinigung - Gemeinde Ismaning
X-WR-TIMEZONE:Europe/Berlin
BEGIN:VEVENT
UID:1f63b3408afc7331@ausschreibungsradar.com
DTSTAMP:20260425T125418Z
DTSTART;VALUE=DATE:20260205
DTEND;VALUE=DATE:20260205
SUMMARY:Angebotsfrist — Ausschreibung Gebäudereinigung - Gemeinde Ismaning
DESCRIPTION:Phase: Ausschreibung | Beschreibung: Angebote werden eingeholt | Link: https://ausschreibungsradar.com/ausschreibung/e697c29a-8e05-40b2-9660-d0710ecb9e9a/
URL:https://ausschreibungsradar.com/ausschreibung/e697c29a-8e05-40b2-9660-d0710ecb9e9a/
END:VEVENT
BEGIN:VEVENT
UID:f0a67e0a2534cb89@ausschreibungsradar.com
DTSTAMP:20260425T125418Z
DTSTART;VALUE=DATE:20260409
DTEND;VALUE=DATE:20260409
SUMMARY:Vergabeergebnis — Ausschreibung Gebäudereinigung - Gemeinde Ismaning
DESCRIPTION:Phase: Vergabeergebnis | Beschreibung: Auftrag wurde zugeschlagen | Link: https://ausschreibungsradar.com/ausschreibung/f0ff84fe-eae5-415f-b87a-e970cc19ca95/
URL:https://ausschreibungsradar.com/ausschreibung/f0ff84fe-eae5-415f-b87a-e970cc19ca95/
END:VEVENT
END:VCALENDAR
