BEGIN:VCALENDAR
VERSION:2.0
PRODID:-//AusschreibungsRadar//Timeline//DE
CALSCALE:GREGORIAN
METHOD:PUBLISH
X-WR-CALNAME:Projekt Umbau und Erweiterung der Kindertagesstätte Vogelnest in der
X-WR-TIMEZONE:Europe/Berlin
BEGIN:VEVENT
UID:07eb0c3fdc063434@ausschreibungsradar.com
DTSTAMP:20260425T144049Z
DTSTART;VALUE=DATE:20241219
DTEND;VALUE=DATE:20241219
SUMMARY:Angebotsfrist — Umbau und Erweiterung der Kindertagesstätte Vogelnest in der
DESCRIPTION:Phase: Ausschreibung | Beschreibung: Angebote werden eingeholt | Link: https://ausschreibungsradar.com/ausschreibung/e6e4c870-03a1-4ff4-b30c-ef4af1a04e14/
URL:https://ausschreibungsradar.com/ausschreibung/e6e4c870-03a1-4ff4-b30c-ef4af1a04e14/
END:VEVENT
BEGIN:VEVENT
UID:37708e8fe4e74ebd@ausschreibungsradar.com
DTSTAMP:20260425T144049Z
DTSTART;VALUE=DATE:20241120
DTEND;VALUE=DATE:20241120
SUMMARY:Ausschreibung — Umbau und Erweiterung der Kindertagesstätte Vogelnest in der
DESCRIPTION:Phase: Ausschreibung | Beschreibung: Offizielle Ausschreibung mit Bieterfrist. | Link: https://ausschreibungsradar.com/ausschreibung/b8a282a4-757a-4d35-8196-d2ec821e41a2/
URL:https://ausschreibungsradar.com/ausschreibung/b8a282a4-757a-4d35-8196-d2ec821e41a2/
END:VEVENT
BEGIN:VEVENT
UID:309a8c0ee5dd8ccc@ausschreibungsradar.com
DTSTAMP:20260425T144049Z
DTSTART;VALUE=DATE:20250227
DTEND;VALUE=DATE:20250227
SUMMARY:Vergabeergebnis — Umbau und Erweiterung der Kindertagesstätte Vogelnest in der
DESCRIPTION:Phase: Vergabeergebnis | Beschreibung: Auftrag wurde zugeschlagen | Link: https://ausschreibungsradar.com/ausschreibung/37dd2934-99a1-4e6c-8e77-b8ecf2f63596/
URL:https://ausschreibungsradar.com/ausschreibung/37dd2934-99a1-4e6c-8e77-b8ecf2f63596/
END:VEVENT
END:VCALENDAR
