BEGIN:VCALENDAR
VERSION:2.0
PRODID:-//AusschreibungsRadar//Timeline//DE
CALSCALE:GREGORIAN
METHOD:PUBLISH
X-WR-CALNAME:Projekt K 8071 Neubau Ortsumgehung Niederlommatzsch
X-WR-TIMEZONE:Europe/Berlin
BEGIN:VEVENT
UID:6e902647046d073d@ausschreibungsradar.com
DTSTAMP:20260425T132426Z
DTSTART;VALUE=DATE:20260115
DTEND;VALUE=DATE:20260115
SUMMARY:Angebotsfrist — K 8071 Neubau Ortsumgehung Niederlommatzsch
DESCRIPTION:Phase: Ausschreibung | Beschreibung: Angebote werden eingeholt | Link: https://ausschreibungsradar.com/ausschreibung/e703030a-4eda-454a-82b8-8a83e62960d9/
URL:https://ausschreibungsradar.com/ausschreibung/e703030a-4eda-454a-82b8-8a83e62960d9/
END:VEVENT
BEGIN:VEVENT
UID:8a1cb6ae97023af0@ausschreibungsradar.com
DTSTAMP:20260425T132426Z
DTSTART;VALUE=DATE:20251210
DTEND;VALUE=DATE:20251210
SUMMARY:Ausschreibung — K 8071 Neubau Ortsumgehung Niederlommatzsch
DESCRIPTION:Phase: Ausschreibung | Beschreibung: Offizielle Ausschreibung mit Bieterfrist. | Link: https://ausschreibungsradar.com/ausschreibung/95078ec1-c611-4523-ac2b-ea3c7bcaa09a/
URL:https://ausschreibungsradar.com/ausschreibung/95078ec1-c611-4523-ac2b-ea3c7bcaa09a/
END:VEVENT
BEGIN:VEVENT
UID:1767e79ee68ef5d0@ausschreibungsradar.com
DTSTAMP:20260425T132426Z
DTSTART;VALUE=DATE:20260209
DTEND;VALUE=DATE:20260209
SUMMARY:Vergabeergebnis — K 8071 Neubau Ortsumgehung Niederlommatzsch
DESCRIPTION:Phase: Vergabeergebnis | Beschreibung: Auftrag wurde zugeschlagen | Link: https://ausschreibungsradar.com/ausschreibung/b26e0c3c-7858-4c0d-a834-fc238aa5193c/
URL:https://ausschreibungsradar.com/ausschreibung/b26e0c3c-7858-4c0d-a834-fc238aa5193c/
END:VEVENT
END:VCALENDAR
