BEGIN:VCALENDAR
VERSION:2.0
PRODID:-//AusschreibungsRadar//Timeline//DE
CALSCALE:GREGORIAN
METHOD:PUBLISH
X-WR-CALNAME:Projekt BLB NRW / NL Dortmund / TU DO (W2037); EF 50 Fassade / Baulo
X-WR-TIMEZONE:Europe/Berlin
BEGIN:VEVENT
UID:0dd5e9eac4bcf154@ausschreibungsradar.com
DTSTAMP:20260425T161152Z
DTSTART;VALUE=DATE:20260205
DTEND;VALUE=DATE:20260205
SUMMARY:Ausschreibung — BLB NRW / NL Dortmund / TU DO (W2037)\; EF 50 Fassade / Baulo
DESCRIPTION:Phase: Ausschreibung | Beschreibung: Angebote werden eingeholt | Link: https://ausschreibungsradar.com/ausschreibung/e7067f67-18a2-4bb6-adf1-7a0790c97779/ | Geschätzter Wert: 248430 €
URL:https://ausschreibungsradar.com/ausschreibung/e7067f67-18a2-4bb6-adf1-7a0790c97779/
END:VEVENT
BEGIN:VEVENT
UID:f4645d1263265484@ausschreibungsradar.com
DTSTAMP:20260425T161152Z
DTSTART;VALUE=DATE:20260219
DTEND;VALUE=DATE:20260219
SUMMARY:Zuschlag — BLB NRW / NL Dortmund / TU DO (W2037)\; EF 50 Fassade / Baulo
DESCRIPTION:Phase: Zuschlag | Beschreibung: Vergabeergebnis — Auftrag wurde erteilt oder Verfahren beendet. | Link: https://ausschreibungsradar.com/ausschreibung/25014228/
URL:https://ausschreibungsradar.com/ausschreibung/25014228/
END:VEVENT
BEGIN:VEVENT
UID:6f95ca9701370592@ausschreibungsradar.com
DTSTAMP:20260425T161152Z
DTSTART;VALUE=DATE:20260420
DTEND;VALUE=DATE:20260420
SUMMARY:Vergabeergebnis — BLB NRW / NL Dortmund / TU DO (W2037)\; EF 50 Fassade / Baulo
DESCRIPTION:Phase: Vergabeergebnis | Beschreibung: Auftrag wurde zugeschlagen | Link: https://ausschreibungsradar.com/ausschreibung/a62de5d8-8dd4-4dda-bd51-7cf8b3638f9a/ | Geschätzter Wert: 248430 €
URL:https://ausschreibungsradar.com/ausschreibung/a62de5d8-8dd4-4dda-bd51-7cf8b3638f9a/
END:VEVENT
END:VCALENDAR
