BEGIN:VCALENDAR
VERSION:2.0
PRODID:-//AusschreibungsRadar//Timeline//DE
CALSCALE:GREGORIAN
METHOD:PUBLISH
X-WR-CALNAME:Projekt Tragwerksplanung Teil 4, Abschnitt 1 HOAI 2021 LPH 1-6
X-WR-TIMEZONE:Europe/Berlin
BEGIN:VEVENT
UID:8baa4db8d94fc8f4@ausschreibungsradar.com
DTSTAMP:20260426T041027Z
DTSTART;VALUE=DATE:20240722
DTEND;VALUE=DATE:20240722
SUMMARY:Zuschlag — Tragwerksplanung Teil 4\, Abschnitt 1 HOAI 2021 LPH 1-6
DESCRIPTION:Phase: Zuschlag | Beschreibung: Vergabeergebnis — Auftrag wurde erteilt oder Verfahren beendet. | Link: https://ausschreibungsradar.com/ausschreibung/e759a7a3-3274-4eb6-b2c3-220f40589815/ | Geschätzte
URL:https://ausschreibungsradar.com/ausschreibung/e759a7a3-3274-4eb6-b2c3-220f40589815/
END:VEVENT
BEGIN:VEVENT
UID:658ec615b0e02420@ausschreibungsradar.com
DTSTAMP:20260426T041027Z
DTSTART;VALUE=DATE:20240723
DTEND;VALUE=DATE:20240723
SUMMARY:Zuschlag — Tragwerksplanung Teil 4\, Abschnitt 1 HOAI 2021 LPH 1-6
DESCRIPTION:Phase: Zuschlag | Beschreibung: Vergabeergebnis — Auftrag wurde erteilt oder Verfahren beendet. | Link: https://ausschreibungsradar.com/ausschreibung/ted-440899-2024/
URL:https://ausschreibungsradar.com/ausschreibung/ted-440899-2024/
END:VEVENT
END:VCALENDAR
