BEGIN:VCALENDAR
VERSION:2.0
PRODID:-//AusschreibungsRadar//Timeline//DE
CALSCALE:GREGORIAN
METHOD:PUBLISH
X-WR-CALNAME:Projekt Trockenbau- und Putzarbeiten
X-WR-TIMEZONE:Europe/Berlin
BEGIN:VEVENT
UID:72f60ddbfd9d3bf1@ausschreibungsradar.com
DTSTAMP:20260424T035040Z
DTSTART;VALUE=DATE:20240402
DTEND;VALUE=DATE:20240402
SUMMARY:Angebotsfrist — Trockenbau- und Putzarbeiten
DESCRIPTION:Phase: Ausschreibung | Beschreibung: Angebote werden eingeholt | Link: https://ausschreibungsradar.com/ausschreibung/e76c0a1c-26e4-46de-ae2b-c85f8dfadbe1/ | Geschätzter Wert: 156135 €
URL:https://ausschreibungsradar.com/ausschreibung/e76c0a1c-26e4-46de-ae2b-c85f8dfadbe1/
END:VEVENT
END:VCALENDAR
