BEGIN:VCALENDAR
VERSION:2.0
PRODID:-//AusschreibungsRadar//Timeline//DE
CALSCALE:GREGORIAN
METHOD:PUBLISH
X-WR-CALNAME:Projekt Neubau Rathausergänzungsgebäude und Umbau Bestandsgebäude
X-WR-TIMEZONE:Europe/Berlin
BEGIN:VEVENT
UID:89b9e4a39a125636@ausschreibungsradar.com
DTSTAMP:20260425T124305Z
DTSTART;VALUE=DATE:20250214
DTEND;VALUE=DATE:20250214
SUMMARY:Ausschreibung — Neubau Rathausergänzungsgebäude und Umbau Bestandsgebäude
DESCRIPTION:Phase: Ausschreibung | Beschreibung: Offizielle Ausschreibung mit Bieterfrist. | Link: https://ausschreibungsradar.com/ausschreibung/786a9d18-a717-457f-b3f0-dda4a64030b5/
URL:https://ausschreibungsradar.com/ausschreibung/786a9d18-a717-457f-b3f0-dda4a64030b5/
END:VEVENT
BEGIN:VEVENT
UID:e0f2fbb2f958f413@ausschreibungsradar.com
DTSTAMP:20260425T124305Z
DTSTART;VALUE=DATE:20250320
DTEND;VALUE=DATE:20250320
SUMMARY:Angebotsfrist — Neubau Rathausergänzungsgebäude und Umbau Bestandsgebäude
DESCRIPTION:Phase: Ausschreibung | Beschreibung: Angebote werden eingeholt | Link: https://ausschreibungsradar.com/ausschreibung/e79a9de8-2407-4ed8-b337-9e44c942c73c/
URL:https://ausschreibungsradar.com/ausschreibung/e79a9de8-2407-4ed8-b337-9e44c942c73c/
END:VEVENT
BEGIN:VEVENT
UID:ccf75c2ab7ba9b76@ausschreibungsradar.com
DTSTAMP:20260425T124305Z
DTSTART;VALUE=DATE:20250423
DTEND;VALUE=DATE:20250423
SUMMARY:Vergabeergebnis — Neubau Rathausergänzungsgebäude und Umbau Bestandsgebäude
DESCRIPTION:Phase: Vergabeergebnis | Beschreibung: Auftrag wurde zugeschlagen | Link: https://ausschreibungsradar.com/ausschreibung/6dfc4654-0da2-4fd1-b8b8-5e281762ef50/
URL:https://ausschreibungsradar.com/ausschreibung/6dfc4654-0da2-4fd1-b8b8-5e281762ef50/
END:VEVENT
END:VCALENDAR
