BEGIN:VCALENDAR
VERSION:2.0
PRODID:-//AusschreibungsRadar//Timeline//DE
CALSCALE:GREGORIAN
METHOD:PUBLISH
X-WR-CALNAME:Projekt Ersatzneubau Freibad Biberach
X-WR-TIMEZONE:Europe/Berlin
BEGIN:VEVENT
UID:41a68d4d13ca0d06@ausschreibungsradar.com
DTSTAMP:20260425T201503Z
DTSTART;VALUE=DATE:20240524
DTEND;VALUE=DATE:20240524
SUMMARY:Angebotsfrist — Ersatzneubau Freibad Biberach
DESCRIPTION:Phase: Ausschreibung | Beschreibung: Angebote werden eingeholt | Link: https://ausschreibungsradar.com/ausschreibung/e7b9de9e-94df-4905-af8f-2eee1c0d5b2f/ | Geschätzter Wert: 450000 €
URL:https://ausschreibungsradar.com/ausschreibung/e7b9de9e-94df-4905-af8f-2eee1c0d5b2f/
END:VEVENT
BEGIN:VEVENT
UID:e05298e48c81865d@ausschreibungsradar.com
DTSTAMP:20260425T201503Z
DTSTART;VALUE=DATE:20240423
DTEND;VALUE=DATE:20240423
SUMMARY:Ausschreibung — Ersatzneubau Freibad Biberach
DESCRIPTION:Phase: Ausschreibung | Beschreibung: Offizielle Ausschreibung mit Bieterfrist. | Link: https://ausschreibungsradar.com/ausschreibung/9aa65b7a-5da8-478e-897d-bab903c5938f/
URL:https://ausschreibungsradar.com/ausschreibung/9aa65b7a-5da8-478e-897d-bab903c5938f/
END:VEVENT
BEGIN:VEVENT
UID:bea8f5bbc7c78f49@ausschreibungsradar.com
DTSTAMP:20260425T201503Z
DTSTART;VALUE=DATE:20240507
DTEND;VALUE=DATE:20240507
SUMMARY:Zuschlag — Ersatzneubau Freibad Biberach
DESCRIPTION:Phase: Zuschlag | Beschreibung: Vergabeergebnis — Auftrag wurde erteilt oder Verfahren beendet. | Link: https://ausschreibungsradar.com/ausschreibung/c6bd4c1a-e239-4ad3-8f2c-8ce95fe15880/
URL:https://ausschreibungsradar.com/ausschreibung/c6bd4c1a-e239-4ad3-8f2c-8ce95fe15880/
END:VEVENT
BEGIN:VEVENT
UID:53c0386e2151354d@ausschreibungsradar.com
DTSTAMP:20260425T201503Z
DTSTART;VALUE=DATE:20241111
DTEND;VALUE=DATE:20241111
SUMMARY:Vergabeergebnis — Ersatzneubau Freibad Biberach
DESCRIPTION:Phase: Vergabeergebnis | Beschreibung: Auftrag wurde zugeschlagen | Link: https://ausschreibungsradar.com/ausschreibung/576cdc5c-f207-46ed-a41a-63d157875337/
URL:https://ausschreibungsradar.com/ausschreibung/576cdc5c-f207-46ed-a41a-63d157875337/
END:VEVENT
END:VCALENDAR
