BEGIN:VCALENDAR
VERSION:2.0
PRODID:-//AusschreibungsRadar//Timeline//DE
CALSCALE:GREGORIAN
METHOD:PUBLISH
X-WR-CALNAME:Projekt Beraterleistungen: Technologie- und IT-Beratung (Los 2)
X-WR-TIMEZONE:Europe/Berlin
BEGIN:VEVENT
UID:fd3170f4f6e85165@ausschreibungsradar.com
DTSTAMP:20260425T135030Z
DTSTART;VALUE=DATE:20231208
DTEND;VALUE=DATE:20231208
SUMMARY:Ausschreibung — Beraterleistungen: Technologie- und IT-Beratung (Los 2)
DESCRIPTION:Phase: Ausschreibung | Beschreibung: Angebote werden eingeholt | Link: https://ausschreibungsradar.com/ausschreibung/e805a41d-da71-434f-a6c6-0cde1c686891/
URL:https://ausschreibungsradar.com/ausschreibung/e805a41d-da71-434f-a6c6-0cde1c686891/
END:VEVENT
BEGIN:VEVENT
UID:94fbcfcbdad9a70f@ausschreibungsradar.com
DTSTAMP:20260425T135030Z
DTSTART;VALUE=DATE:20231208
DTEND;VALUE=DATE:20231208
SUMMARY:Ausschreibung — Beraterleistungen: Technologie- und IT-Beratung (Los 2)
DESCRIPTION:Phase: Ausschreibung | Beschreibung: Offizielle Ausschreibung mit Bieterfrist. | Link: https://ausschreibungsradar.com/ausschreibung/05443105-1edb-4a25-b159-aaf41e3afbe5/
URL:https://ausschreibungsradar.com/ausschreibung/05443105-1edb-4a25-b159-aaf41e3afbe5/
END:VEVENT
BEGIN:VEVENT
UID:98acdcfca7ddba4a@ausschreibungsradar.com
DTSTAMP:20260425T135030Z
DTSTART;VALUE=DATE:20231212
DTEND;VALUE=DATE:20231212
SUMMARY:Ausschreibung — Beraterleistungen: Technologie- und IT-Beratung (Los 2)
DESCRIPTION:Phase: Ausschreibung | Beschreibung: Offizielle Ausschreibung mit Bieterfrist. | Link: https://ausschreibungsradar.com/ausschreibung/ted-752864-2023/
URL:https://ausschreibungsradar.com/ausschreibung/ted-752864-2023/
END:VEVENT
BEGIN:VEVENT
UID:948c6a8a1ef6fac0@ausschreibungsradar.com
DTSTAMP:20260425T135030Z
DTSTART;VALUE=DATE:20240625
DTEND;VALUE=DATE:20240625
SUMMARY:Vergabeergebnis — Beraterleistungen: Technologie- und IT-Beratung (Los 2)
DESCRIPTION:Phase: Vergabeergebnis | Beschreibung: Auftrag wurde zugeschlagen | Link: https://ausschreibungsradar.com/ausschreibung/0bf9e9de-faf5-4e89-be34-4989dfe2e8dc/
URL:https://ausschreibungsradar.com/ausschreibung/0bf9e9de-faf5-4e89-be34-4989dfe2e8dc/
END:VEVENT
END:VCALENDAR
