BEGIN:VCALENDAR
VERSION:2.0
PRODID:-//AusschreibungsRadar//Timeline//DE
CALSCALE:GREGORIAN
METHOD:PUBLISH
X-WR-CALNAME:Projekt Lieferung von einem mobilen robotischen Bildgebungssystem fü
X-WR-TIMEZONE:Europe/Berlin
BEGIN:VEVENT
UID:5ba56980947869ae@ausschreibungsradar.com
DTSTAMP:20260425T023912Z
DTSTART;VALUE=DATE:20250418
DTEND;VALUE=DATE:20250418
SUMMARY:Direktvergabe-Ankündigung — Lieferung von einem mobilen robotischen Bildgebungssystem fü
DESCRIPTION:Phase: Direktvergabe-Ankündigung | Beschreibung: Geplante Direktvergabe (VEAT) — 10 Tage Stillhaltefrist | Link: https://ausschreibungsradar.com/ausschreibung/56488191-e6ba-4cee-b07b-164705887cea/
URL:https://ausschreibungsradar.com/ausschreibung/56488191-e6ba-4cee-b07b-164705887cea/
END:VEVENT
BEGIN:VEVENT
UID:c24560233f729448@ausschreibungsradar.com
DTSTAMP:20260425T023912Z
DTSTART;VALUE=DATE:20250507
DTEND;VALUE=DATE:20250507
SUMMARY:Vergabeergebnis — Lieferung von einem mobilen robotischen Bildgebungssystem fü
DESCRIPTION:Phase: Vergabeergebnis | Beschreibung: Auftrag wurde zugeschlagen | Link: https://ausschreibungsradar.com/ausschreibung/e81748eb-8761-469d-8a48-7f59533c0646/
URL:https://ausschreibungsradar.com/ausschreibung/e81748eb-8761-469d-8a48-7f59533c0646/
END:VEVENT
END:VCALENDAR
