BEGIN:VCALENDAR
VERSION:2.0
PRODID:-//AusschreibungsRadar//Timeline//DE
CALSCALE:GREGORIAN
METHOD:PUBLISH
X-WR-CALNAME:Projekt Parkettarbeiten
X-WR-TIMEZONE:Europe/Berlin
BEGIN:VEVENT
UID:38bcdaed6c6d52c7@ausschreibungsradar.com
DTSTAMP:20260424T145010Z
DTSTART;VALUE=DATE:20251014
DTEND;VALUE=DATE:20251014
SUMMARY:Angebotsfrist — Parkettarbeiten
DESCRIPTION:Phase: Ausschreibung | Beschreibung: Angebote werden eingeholt | Link: https://ausschreibungsradar.com/ausschreibung/e86e497b-04a6-422c-b092-871be3202530/
URL:https://ausschreibungsradar.com/ausschreibung/e86e497b-04a6-422c-b092-871be3202530/
END:VEVENT
BEGIN:VEVENT
UID:d1b2b9d163d5285e@ausschreibungsradar.com
DTSTAMP:20260424T145010Z
DTSTART;VALUE=DATE:20251202
DTEND;VALUE=DATE:20251202
SUMMARY:Vergabeergebnis — Parkettarbeiten
DESCRIPTION:Phase: Vergabeergebnis | Beschreibung: Auftrag wurde zugeschlagen | Link: https://ausschreibungsradar.com/ausschreibung/53f7a14d-e4c9-4f8e-a5b8-9793257133fc/
URL:https://ausschreibungsradar.com/ausschreibung/53f7a14d-e4c9-4f8e-a5b8-9793257133fc/
END:VEVENT
END:VCALENDAR
