BEGIN:VCALENDAR
VERSION:2.0
PRODID:-//AusschreibungsRadar//Timeline//DE
CALSCALE:GREGORIAN
METHOD:PUBLISH
X-WR-CALNAME:Projekt Einführung eines Patientenportals (Aufnahme- und Behandlungs
X-WR-TIMEZONE:Europe/Berlin
BEGIN:VEVENT
UID:772f1619c4e9b623@ausschreibungsradar.com
DTSTAMP:20260424T193007Z
DTSTART;VALUE=DATE:20240422
DTEND;VALUE=DATE:20240422
SUMMARY:Ausschreibung — Einführung eines Patientenportals (Aufnahme- und Behandlungs
DESCRIPTION:Phase: Ausschreibung | Beschreibung: Angebote werden eingeholt | Link: https://ausschreibungsradar.com/ausschreibung/1d8b59fc-74d2-4fa2-9836-f3bc34068ced/
URL:https://ausschreibungsradar.com/ausschreibung/1d8b59fc-74d2-4fa2-9836-f3bc34068ced/
END:VEVENT
BEGIN:VEVENT
UID:4dff1df060b0f310@ausschreibungsradar.com
DTSTAMP:20260424T193007Z
DTSTART;VALUE=DATE:20240422
DTEND;VALUE=DATE:20240422
SUMMARY:Ausschreibung — Einführung eines Patientenportals (Aufnahme- und Behandlungs
DESCRIPTION:Phase: Ausschreibung | Beschreibung: Offizielle Ausschreibung mit Bieterfrist. | Link: https://ausschreibungsradar.com/ausschreibung/c49d0813-e593-4c89-a0e1-ec0f58ca6574/
URL:https://ausschreibungsradar.com/ausschreibung/c49d0813-e593-4c89-a0e1-ec0f58ca6574/
END:VEVENT
BEGIN:VEVENT
UID:56e942f0dedec4e3@ausschreibungsradar.com
DTSTAMP:20260424T193007Z
DTSTART;VALUE=DATE:20240422
DTEND;VALUE=DATE:20240422
SUMMARY:Ausschreibung — Einführung eines Patientenportals (Aufnahme- und Behandlungs
DESCRIPTION:Phase: Ausschreibung | Beschreibung: Offizielle Ausschreibung mit Bieterfrist. | Link: https://ausschreibungsradar.com/ausschreibung/f34a4705-4bff-47bf-a810-82ea97053e86/
URL:https://ausschreibungsradar.com/ausschreibung/f34a4705-4bff-47bf-a810-82ea97053e86/
END:VEVENT
BEGIN:VEVENT
UID:17756a38c6f60f1b@ausschreibungsradar.com
DTSTAMP:20260424T193007Z
DTSTART;VALUE=DATE:20250102
DTEND;VALUE=DATE:20250102
SUMMARY:Vergabeergebnis — Einführung eines Patientenportals (Aufnahme- und Behandlungs
DESCRIPTION:Phase: Vergabeergebnis | Beschreibung: Auftrag wurde zugeschlagen | Link: https://ausschreibungsradar.com/ausschreibung/e8ff7f29-4b12-4872-8022-6aad92db5bc0/
URL:https://ausschreibungsradar.com/ausschreibung/e8ff7f29-4b12-4872-8022-6aad92db5bc0/
END:VEVENT
END:VCALENDAR
