BEGIN:VCALENDAR
VERSION:2.0
PRODID:-//AusschreibungsRadar//Timeline//DE
CALSCALE:GREGORIAN
METHOD:PUBLISH
X-WR-CALNAME:Projekt Universität Mannheim, Sanierung Schloss Ehrenhof-West

Niede
X-WR-TIMEZONE:Europe/Berlin
BEGIN:VEVENT
UID:562f16a23f8e815e@ausschreibungsradar.com
DTSTAMP:20260425T122724Z
DTSTART;VALUE=DATE:20240625
DTEND;VALUE=DATE:20240625
SUMMARY:Zuschlag — Universität Mannheim\, Sanierung Schloss Ehrenhof-West\n\nNiede
DESCRIPTION:Phase: Zuschlag | Beschreibung: Vergabeergebnis — Auftrag wurde erteilt oder Verfahren beendet. | Link: https://ausschreibungsradar.com/ausschreibung/a99afa33-168f-469f-a1fb-3fb91afc0bc0/
URL:https://ausschreibungsradar.com/ausschreibung/a99afa33-168f-469f-a1fb-3fb91afc0bc0/
END:VEVENT
BEGIN:VEVENT
UID:b27c828de09163bf@ausschreibungsradar.com
DTSTAMP:20260425T122724Z
DTSTART;VALUE=DATE:20240826
DTEND;VALUE=DATE:20240826
SUMMARY:Angebotsfrist — Universität Mannheim\, Sanierung Schloss Ehrenhof-West\n\nNiede
DESCRIPTION:Phase: Ausschreibung | Beschreibung: Angebote werden eingeholt | Link: https://ausschreibungsradar.com/ausschreibung/e94f13ef-dbb2-4920-8d47-c1ea9fa61a05/ | Geschätzter Wert: 2184874 €
URL:https://ausschreibungsradar.com/ausschreibung/e94f13ef-dbb2-4920-8d47-c1ea9fa61a05/
END:VEVENT
BEGIN:VEVENT
UID:9ceec19e48bd1c63@ausschreibungsradar.com
DTSTAMP:20260425T122724Z
DTSTART;VALUE=DATE:20240726
DTEND;VALUE=DATE:20240726
SUMMARY:Ausschreibung — Universität Mannheim\, Sanierung Schloss Ehrenhof-West\n\nNiede
DESCRIPTION:Phase: Ausschreibung | Beschreibung: Offizielle Ausschreibung mit Bieterfrist. | Link: https://ausschreibungsradar.com/ausschreibung/32592346-554d-44ef-854e-7144bf0e5ca4/
URL:https://ausschreibungsradar.com/ausschreibung/32592346-554d-44ef-854e-7144bf0e5ca4/
END:VEVENT
BEGIN:VEVENT
UID:e5795fefcab1dae4@ausschreibungsradar.com
DTSTAMP:20260425T122724Z
DTSTART;VALUE=DATE:20241105
DTEND;VALUE=DATE:20241105
SUMMARY:Vergabeergebnis — Universität Mannheim\, Sanierung Schloss Ehrenhof-West\n\nNiede
DESCRIPTION:Phase: Vergabeergebnis | Beschreibung: Auftrag wurde zugeschlagen | Link: https://ausschreibungsradar.com/ausschreibung/52d54304-e02c-4a1e-b4e6-439d48393f4b/ | Geschätzter Wert: 2184874 €
URL:https://ausschreibungsradar.com/ausschreibung/52d54304-e02c-4a1e-b4e6-439d48393f4b/
END:VEVENT
END:VCALENDAR
