BEGIN:VCALENDAR
VERSION:2.0
PRODID:-//AusschreibungsRadar//Timeline//DE
CALSCALE:GREGORIAN
METHOD:PUBLISH
X-WR-CALNAME:Projekt Verpflegungsleistungen bei Einsätzen aus besonderem Anlass
X-WR-TIMEZONE:Europe/Berlin
BEGIN:VEVENT
UID:f5acc0355c3d84a9@ausschreibungsradar.com
DTSTAMP:20260424T233228Z
DTSTART;VALUE=DATE:20240417
DTEND;VALUE=DATE:20240417
SUMMARY:Angebotsfrist — Verpflegungsleistungen bei Einsätzen aus besonderem Anlass
DESCRIPTION:Phase: Ausschreibung | Beschreibung: Angebote werden eingeholt | Link: https://ausschreibungsradar.com/ausschreibung/e95f95d3-f816-4c6f-8ecc-aab77c1245df/
URL:https://ausschreibungsradar.com/ausschreibung/e95f95d3-f816-4c6f-8ecc-aab77c1245df/
END:VEVENT
BEGIN:VEVENT
UID:cae154f7b8b271b0@ausschreibungsradar.com
DTSTAMP:20260424T233228Z
DTSTART;VALUE=DATE:20240514
DTEND;VALUE=DATE:20240514
SUMMARY:Vergabeergebnis — Verpflegungsleistungen bei Einsätzen aus besonderem Anlass
DESCRIPTION:Phase: Vergabeergebnis | Beschreibung: Auftrag wurde zugeschlagen | Link: https://ausschreibungsradar.com/ausschreibung/d34ade6c-2dd1-4cb9-8f9d-e8771d90faee/
URL:https://ausschreibungsradar.com/ausschreibung/d34ade6c-2dd1-4cb9-8f9d-e8771d90faee/
END:VEVENT
END:VCALENDAR
