BEGIN:VCALENDAR
VERSION:2.0
PRODID:-//AusschreibungsRadar//Timeline//DE
CALSCALE:GREGORIAN
METHOD:PUBLISH
X-WR-CALNAME:Projekt Beschaffung eines Tanklöschfahrzeuges TLF 3000 ST für die FF
X-WR-TIMEZONE:Europe/Berlin
BEGIN:VEVENT
UID:9fd8ad76f300db49@ausschreibungsradar.com
DTSTAMP:20260424T155945Z
DTSTART;VALUE=DATE:20240911
DTEND;VALUE=DATE:20240911
SUMMARY:Ausschreibung — Beschaffung eines Tanklöschfahrzeuges TLF 3000 ST für die FF
DESCRIPTION:Phase: Ausschreibung | Beschreibung: Angebote werden eingeholt | Link: https://ausschreibungsradar.com/ausschreibung/ea1bb75e-03e8-4228-9201-e7fa99588068/
URL:https://ausschreibungsradar.com/ausschreibung/ea1bb75e-03e8-4228-9201-e7fa99588068/
END:VEVENT
BEGIN:VEVENT
UID:82d6ca8d9382261b@ausschreibungsradar.com
DTSTAMP:20260424T155945Z
DTSTART;VALUE=DATE:20240911
DTEND;VALUE=DATE:20240911
SUMMARY:Ausschreibung — Beschaffung eines Tanklöschfahrzeuges TLF 3000 ST für die FF
DESCRIPTION:Phase: Ausschreibung | Beschreibung: Offizielle Ausschreibung mit Bieterfrist. | Link: https://ausschreibungsradar.com/ausschreibung/edb7995e-0ff5-41f6-a626-15e0f2a8952b/
URL:https://ausschreibungsradar.com/ausschreibung/edb7995e-0ff5-41f6-a626-15e0f2a8952b/
END:VEVENT
BEGIN:VEVENT
UID:b1cbf9a8358a3202@ausschreibungsradar.com
DTSTAMP:20260424T155945Z
DTSTART;VALUE=DATE:20241218
DTEND;VALUE=DATE:20241218
SUMMARY:Vergabeergebnis — Beschaffung eines Tanklöschfahrzeuges TLF 3000 ST für die FF
DESCRIPTION:Phase: Vergabeergebnis | Beschreibung: Auftrag wurde zugeschlagen | Link: https://ausschreibungsradar.com/ausschreibung/c7cbb8a4-66b2-4982-9066-479699b63c21/ | Auftragnehmer: Wolfgang Jahn GmbH
URL:https://ausschreibungsradar.com/ausschreibung/c7cbb8a4-66b2-4982-9066-479699b63c21/
END:VEVENT
END:VCALENDAR
