BEGIN:VCALENDAR
VERSION:2.0
PRODID:-//AusschreibungsRadar//Timeline//DE
CALSCALE:GREGORIAN
METHOD:PUBLISH
X-WR-CALNAME:Projekt Nibelungenschule, Lampertheim-Hofheim - Trägerschaft Ganztag
X-WR-TIMEZONE:Europe/Berlin
BEGIN:VEVENT
UID:ebff479e35eb3645@ausschreibungsradar.com
DTSTAMP:20260426T030119Z
DTSTART;VALUE=DATE:20250922
DTEND;VALUE=DATE:20250922
SUMMARY:Angebotsfrist — Nibelungenschule\, Lampertheim-Hofheim - Trägerschaft Ganztag
DESCRIPTION:Phase: Ausschreibung | Beschreibung: Angebote werden eingeholt | Link: https://ausschreibungsradar.com/ausschreibung/dbce9f95-65cf-4251-803a-270a20b3950a/
URL:https://ausschreibungsradar.com/ausschreibung/dbce9f95-65cf-4251-803a-270a20b3950a/
END:VEVENT
BEGIN:VEVENT
UID:2c79ea67772f1b34@ausschreibungsradar.com
DTSTAMP:20260426T030119Z
DTSTART;VALUE=DATE:20251101
DTEND;VALUE=DATE:20251101
SUMMARY:Vergabeergebnis — Nibelungenschule\, Lampertheim-Hofheim - Trägerschaft Ganztag
DESCRIPTION:Phase: Vergabeergebnis | Beschreibung: Auftrag wurde zugeschlagen | Link: https://ausschreibungsradar.com/ausschreibung/ea31f2d1-3ae7-478e-8705-2e408a519f7c/
URL:https://ausschreibungsradar.com/ausschreibung/ea31f2d1-3ae7-478e-8705-2e408a519f7c/
END:VEVENT
BEGIN:VEVENT
UID:35eeb3507ff52703@ausschreibungsradar.com
DTSTAMP:20260426T030119Z
DTSTART;VALUE=DATE:20251101
DTEND;VALUE=DATE:20251101
SUMMARY:Zuschlag — Nibelungenschule\, Lampertheim-Hofheim - Trägerschaft Ganztag
DESCRIPTION:Phase: Zuschlag | Beschreibung: Vergabeergebnis — Auftrag wurde erteilt oder Verfahren beendet. | Link: https://ausschreibungsradar.com/ausschreibung/40667624-8a68-4b00-8fdd-b1d4c8e787d5/
URL:https://ausschreibungsradar.com/ausschreibung/40667624-8a68-4b00-8fdd-b1d4c8e787d5/
END:VEVENT
BEGIN:VEVENT
UID:8cec8ff54415cff4@ausschreibungsradar.com
DTSTAMP:20260426T030119Z
DTSTART;VALUE=DATE:20251122
DTEND;VALUE=DATE:20251122
SUMMARY:Ausschreibung — Nibelungenschule\, Lampertheim-Hofheim - Trägerschaft Ganztag
DESCRIPTION:Phase: Ausschreibung | Beschreibung: Offizielle Ausschreibung mit Bieterfrist. | Link: https://ausschreibungsradar.com/ausschreibung/4eb51599-d10b-4d4d-8da1-2916e7df81e5/
URL:https://ausschreibungsradar.com/ausschreibung/4eb51599-d10b-4d4d-8da1-2916e7df81e5/
END:VEVENT
END:VCALENDAR
