BEGIN:VCALENDAR
VERSION:2.0
PRODID:-//AusschreibungsRadar//Timeline//DE
CALSCALE:GREGORIAN
METHOD:PUBLISH
X-WR-CALNAME:Projekt PAW_03EU
X-WR-TIMEZONE:Europe/Berlin
BEGIN:VEVENT
UID:658984a7d6d5449c@ausschreibungsradar.com
DTSTAMP:20260425T140826Z
DTSTART;VALUE=DATE:20251020
DTEND;VALUE=DATE:20251020
SUMMARY:Angebotsfrist — PAW_03EU
DESCRIPTION:Phase: Ausschreibung | Beschreibung: Angebote werden eingeholt | Link: https://ausschreibungsradar.com/ausschreibung/ea85317f-af4d-43df-bd6b-2a15ed07ffb7/
URL:https://ausschreibungsradar.com/ausschreibung/ea85317f-af4d-43df-bd6b-2a15ed07ffb7/
END:VEVENT
END:VCALENDAR
