BEGIN:VCALENDAR
VERSION:2.0
PRODID:-//AusschreibungsRadar//Timeline//DE
CALSCALE:GREGORIAN
METHOD:PUBLISH
X-WR-CALNAME:Projekt Fachkraft für Arbeitssicherheit
X-WR-TIMEZONE:Europe/Berlin
BEGIN:VEVENT
UID:95475a95fdef9966@ausschreibungsradar.com
DTSTAMP:20260425T102430Z
DTSTART;VALUE=DATE:20241107
DTEND;VALUE=DATE:20241107
SUMMARY:Angebotsfrist — Fachkraft für Arbeitssicherheit
DESCRIPTION:Phase: Ausschreibung | Beschreibung: Angebote werden eingeholt | Link: https://ausschreibungsradar.com/ausschreibung/eaa414ad-77c0-483f-9733-ce66ddef632b/ | Geschätzter Wert: 280000 €
URL:https://ausschreibungsradar.com/ausschreibung/eaa414ad-77c0-483f-9733-ce66ddef632b/
END:VEVENT
BEGIN:VEVENT
UID:2bb3081f557fb520@ausschreibungsradar.com
DTSTAMP:20260425T102430Z
DTSTART;VALUE=DATE:20241217
DTEND;VALUE=DATE:20241217
SUMMARY:Vergabeergebnis — Fachkraft für Arbeitssicherheit
DESCRIPTION:Phase: Vergabeergebnis | Beschreibung: Auftrag wurde zugeschlagen | Link: https://ausschreibungsradar.com/ausschreibung/4b0ea26f-b173-4b39-8688-bf3139bc2cd7/ | Geschätzter Wert: 280000 €
URL:https://ausschreibungsradar.com/ausschreibung/4b0ea26f-b173-4b39-8688-bf3139bc2cd7/
END:VEVENT
END:VCALENDAR
