BEGIN:VCALENDAR
VERSION:2.0
PRODID:-//AusschreibungsRadar//Timeline//DE
CALSCALE:GREGORIAN
METHOD:PUBLISH
X-WR-CALNAME:Projekt 24D410046-Bereitschaftspolizei - Wasserschutzpolizei Pirna, 
X-WR-TIMEZONE:Europe/Berlin
BEGIN:VEVENT
UID:ba6c627de9ad1df3@ausschreibungsradar.com
DTSTAMP:20260425T151608Z
DTSTART;VALUE=DATE:20240912
DTEND;VALUE=DATE:20240912
SUMMARY:Ausschreibung — 24D410046-Bereitschaftspolizei - Wasserschutzpolizei Pirna\, 
DESCRIPTION:Phase: Ausschreibung | Beschreibung: Angebote werden eingeholt | Link: https://ausschreibungsradar.com/ausschreibung/eb9931ce-cacb-4851-a87b-485b848762bd/
URL:https://ausschreibungsradar.com/ausschreibung/eb9931ce-cacb-4851-a87b-485b848762bd/
END:VEVENT
BEGIN:VEVENT
UID:6913bb5b76ee5812@ausschreibungsradar.com
DTSTAMP:20260425T151608Z
DTSTART;VALUE=DATE:20241011
DTEND;VALUE=DATE:20241011
SUMMARY:Vertragsmodifikation — 24D410046-Bereitschaftspolizei - Wasserschutzpolizei Pirna\, 
DESCRIPTION:Phase: Vertragsmodifikation | Beschreibung: Änderung am bestehenden Vertrag nach Zuschlag. | Link: https://ausschreibungsradar.com/ausschreibung/c6e7765f-bd20-4cdb-a2af-cf3a99d40daf/
URL:https://ausschreibungsradar.com/ausschreibung/c6e7765f-bd20-4cdb-a2af-cf3a99d40daf/
END:VEVENT
BEGIN:VEVENT
UID:d4f5ef26f99b9301@ausschreibungsradar.com
DTSTAMP:20260425T151608Z
DTSTART;VALUE=DATE:20250318
DTEND;VALUE=DATE:20250318
SUMMARY:Vergabeergebnis — 24D410046-Bereitschaftspolizei - Wasserschutzpolizei Pirna\, 
DESCRIPTION:Phase: Vergabeergebnis | Beschreibung: Auftrag wurde zugeschlagen | Link: https://ausschreibungsradar.com/ausschreibung/0087e923-75aa-4164-8035-a91a1f802c92/
URL:https://ausschreibungsradar.com/ausschreibung/0087e923-75aa-4164-8035-a91a1f802c92/
END:VEVENT
END:VCALENDAR
