BEGIN:VCALENDAR
VERSION:2.0
PRODID:-//AusschreibungsRadar//Timeline//DE
CALSCALE:GREGORIAN
METHOD:PUBLISH
X-WR-CALNAME:Projekt Bereitstellung, Implementierung und den Betrieb einer neuen,
X-WR-TIMEZONE:Europe/Berlin
BEGIN:VEVENT
UID:22d4c7c844c3fa24@ausschreibungsradar.com
DTSTAMP:20260425T160115Z
DTSTART;VALUE=DATE:20240924
DTEND;VALUE=DATE:20240924
SUMMARY:Ausschreibung — Bereitstellung\, Implementierung und den Betrieb einer neuen\,
DESCRIPTION:Phase: Ausschreibung | Beschreibung: Angebote werden eingeholt | Link: https://ausschreibungsradar.com/ausschreibung/502de706-0da9-4301-a562-6346668aabf1/
URL:https://ausschreibungsradar.com/ausschreibung/502de706-0da9-4301-a562-6346668aabf1/
END:VEVENT
BEGIN:VEVENT
UID:1c6814cc9b306517@ausschreibungsradar.com
DTSTAMP:20260425T160115Z
DTSTART;VALUE=DATE:20250402
DTEND;VALUE=DATE:20250402
SUMMARY:Vergabeergebnis — Bereitstellung\, Implementierung und den Betrieb einer neuen\,
DESCRIPTION:Phase: Vergabeergebnis | Beschreibung: Auftrag wurde zugeschlagen | Link: https://ausschreibungsradar.com/ausschreibung/ebf033fb-acad-4d80-b1be-79e233694fa2/
URL:https://ausschreibungsradar.com/ausschreibung/ebf033fb-acad-4d80-b1be-79e233694fa2/
END:VEVENT
END:VCALENDAR
