BEGIN:VCALENDAR
VERSION:2.0
PRODID:-//AusschreibungsRadar//Timeline//DE
CALSCALE:GREGORIAN
METHOD:PUBLISH
X-WR-CALNAME:Projekt Wohnquartier "Auf der Freiheit", Schleswig - Vorzeigeprojekt
X-WR-TIMEZONE:Europe/Berlin
BEGIN:VEVENT
UID:9bcf49008d0c2a09@ausschreibungsradar.com
DTSTAMP:20260425T185152Z
DTSTART;VALUE=DATE:20240213
DTEND;VALUE=DATE:20240213
SUMMARY:Angebotsfrist — Wohnquartier "Auf der Freiheit"\, Schleswig - Vorzeigeprojekt
DESCRIPTION:Phase: Ausschreibung | Beschreibung: Angebote werden eingeholt | Link: https://ausschreibungsradar.com/ausschreibung/d32732a9-c66e-403b-8072-374804e701e5/
URL:https://ausschreibungsradar.com/ausschreibung/d32732a9-c66e-403b-8072-374804e701e5/
END:VEVENT
BEGIN:VEVENT
UID:db2c7bcb3afd8dd2@ausschreibungsradar.com
DTSTAMP:20260425T185152Z
DTSTART;VALUE=DATE:20240325
DTEND;VALUE=DATE:20240325
SUMMARY:Vergabeergebnis — Wohnquartier "Auf der Freiheit"\, Schleswig - Vorzeigeprojekt
DESCRIPTION:Phase: Vergabeergebnis | Beschreibung: Auftrag wurde zugeschlagen | Link: https://ausschreibungsradar.com/ausschreibung/ecbaefd1-d30b-4b48-8383-3144240f5953/
URL:https://ausschreibungsradar.com/ausschreibung/ecbaefd1-d30b-4b48-8383-3144240f5953/
END:VEVENT
BEGIN:VEVENT
UID:af7515b950156e54@ausschreibungsradar.com
DTSTAMP:20260425T185152Z
DTSTART;VALUE=DATE:20240325
DTEND;VALUE=DATE:20240325
SUMMARY:Zuschlag — Wohnquartier "Auf der Freiheit"\, Schleswig - Vorzeigeprojekt
DESCRIPTION:Phase: Zuschlag | Beschreibung: Vergabeergebnis — Auftrag wurde erteilt oder Verfahren beendet. | Link: https://ausschreibungsradar.com/ausschreibung/0df8c9f3-eabb-411c-8370-9b59152244e6/
URL:https://ausschreibungsradar.com/ausschreibung/0df8c9f3-eabb-411c-8370-9b59152244e6/
END:VEVENT
END:VCALENDAR
