BEGIN:VCALENDAR
VERSION:2.0
PRODID:-//AusschreibungsRadar//Timeline//DE
CALSCALE:GREGORIAN
METHOD:PUBLISH
X-WR-CALNAME:Projekt Ganztagsverpflegung der Kinder in den Kindertagesstätten für
X-WR-TIMEZONE:Europe/Berlin
BEGIN:VEVENT
UID:e17de317b8108685@ausschreibungsradar.com
DTSTAMP:20260425T213323Z
DTSTART;VALUE=DATE:20241122
DTEND;VALUE=DATE:20241122
SUMMARY:Angebotsfrist — Ganztagsverpflegung der Kinder in den Kindertagesstätten für
DESCRIPTION:Phase: Ausschreibung | Beschreibung: Angebote werden eingeholt | Link: https://ausschreibungsradar.com/ausschreibung/ed03a66c-eee1-4f5e-ad2f-eb767bea60f2/
URL:https://ausschreibungsradar.com/ausschreibung/ed03a66c-eee1-4f5e-ad2f-eb767bea60f2/
END:VEVENT
BEGIN:VEVENT
UID:834a191702bffe1b@ausschreibungsradar.com
DTSTAMP:20260425T213323Z
DTSTART;VALUE=DATE:20241219
DTEND;VALUE=DATE:20241219
SUMMARY:Vergabeergebnis — Ganztagsverpflegung der Kinder in den Kindertagesstätten für
DESCRIPTION:Phase: Vergabeergebnis | Beschreibung: Auftrag wurde zugeschlagen | Link: https://ausschreibungsradar.com/ausschreibung/c23faa2a-5d22-46d9-ba7a-2ef79da97d3d/
URL:https://ausschreibungsradar.com/ausschreibung/c23faa2a-5d22-46d9-ba7a-2ef79da97d3d/
END:VEVENT
END:VCALENDAR
