BEGIN:VCALENDAR
VERSION:2.0
PRODID:-//AusschreibungsRadar//Timeline//DE
CALSCALE:GREGORIAN
METHOD:PUBLISH
X-WR-CALNAME:Projekt Ausgleichsflächenpool-Management
X-WR-TIMEZONE:Europe/Berlin
BEGIN:VEVENT
UID:969d5df0b0b5254c@ausschreibungsradar.com
DTSTAMP:20260425T203843Z
DTSTART;VALUE=DATE:20240104
DTEND;VALUE=DATE:20240104
SUMMARY:Angebotsfrist — Ausgleichsflächenpool-Management
DESCRIPTION:Phase: Ausschreibung | Beschreibung: Angebote werden eingeholt | Link: https://ausschreibungsradar.com/ausschreibung/ed491f1c-6c3f-421a-8ec5-266159c8ad9b/
URL:https://ausschreibungsradar.com/ausschreibung/ed491f1c-6c3f-421a-8ec5-266159c8ad9b/
END:VEVENT
BEGIN:VEVENT
UID:1f100ae33d9a1a3d@ausschreibungsradar.com
DTSTAMP:20260425T203843Z
DTSTART;VALUE=DATE:20231122
DTEND;VALUE=DATE:20231122
SUMMARY:Ausschreibung — Ausgleichsflächenpool-Management
DESCRIPTION:Phase: Ausschreibung | Beschreibung: Offizielle Ausschreibung mit Bieterfrist. | Link: https://ausschreibungsradar.com/ausschreibung/ted-710193-2023/
URL:https://ausschreibungsradar.com/ausschreibung/ted-710193-2023/
END:VEVENT
END:VCALENDAR
