BEGIN:VCALENDAR
VERSION:2.0
PRODID:-//AusschreibungsRadar//Timeline//DE
CALSCALE:GREGORIAN
METHOD:PUBLISH
X-WR-CALNAME:Projekt Lüftung
X-WR-TIMEZONE:Europe/Berlin
BEGIN:VEVENT
UID:9833eb1d24178c9b@ausschreibungsradar.com
DTSTAMP:20260425T102229Z
DTSTART;VALUE=DATE:20241029
DTEND;VALUE=DATE:20241029
SUMMARY:Angebotsfrist — Lüftung
DESCRIPTION:Phase: Ausschreibung | Beschreibung: Angebote werden eingeholt | Link: https://ausschreibungsradar.com/ausschreibung/edcc528e-c8f5-45aa-ba1f-e2bd873874b0/
URL:https://ausschreibungsradar.com/ausschreibung/edcc528e-c8f5-45aa-ba1f-e2bd873874b0/
END:VEVENT
BEGIN:VEVENT
UID:749c8ce19ceba1e3@ausschreibungsradar.com
DTSTAMP:20260425T102229Z
DTSTART;VALUE=DATE:20241002
DTEND;VALUE=DATE:20241002
SUMMARY:Ausschreibung — Lüftung
DESCRIPTION:Phase: Ausschreibung | Beschreibung: Offizielle Ausschreibung mit Bieterfrist. | Link: https://ausschreibungsradar.com/ausschreibung/8e13208c-5769-4635-b5f0-d0232e9a4e66/
URL:https://ausschreibungsradar.com/ausschreibung/8e13208c-5769-4635-b5f0-d0232e9a4e66/
END:VEVENT
BEGIN:VEVENT
UID:cd7d5716071de87b@ausschreibungsradar.com
DTSTAMP:20260425T102229Z
DTSTART;VALUE=DATE:20250919
DTEND;VALUE=DATE:20250919
SUMMARY:Vergabeergebnis — Lüftung
DESCRIPTION:Phase: Vergabeergebnis | Beschreibung: Auftrag wurde zugeschlagen | Link: https://ausschreibungsradar.com/ausschreibung/122735a5-4fce-41ac-87ac-cd7826c50490/
URL:https://ausschreibungsradar.com/ausschreibung/122735a5-4fce-41ac-87ac-cd7826c50490/
END:VEVENT
END:VCALENDAR
