BEGIN:VCALENDAR
VERSION:2.0
PRODID:-//AusschreibungsRadar//Timeline//DE
CALSCALE:GREGORIAN
METHOD:PUBLISH
X-WR-CALNAME:Projekt Forstbetrieb Rothenburg: maschinelle Holzernte mit Harvester
X-WR-TIMEZONE:Europe/Berlin
BEGIN:VEVENT
UID:076f70b4f717605b@ausschreibungsradar.com
DTSTAMP:20260425T134927Z
DTSTART;VALUE=DATE:20260327
DTEND;VALUE=DATE:20260327
SUMMARY:Ausschreibung — Forstbetrieb Rothenburg: maschinelle Holzernte mit Harvester
DESCRIPTION:Phase: Ausschreibung | Beschreibung: Offizielle Ausschreibung mit Bieterfrist. | Link: https://ausschreibungsradar.com/ausschreibung/0559abe9-9e30-43a5-8828-18a0e6446709/
URL:https://ausschreibungsradar.com/ausschreibung/0559abe9-9e30-43a5-8828-18a0e6446709/
END:VEVENT
BEGIN:VEVENT
UID:997a90f01e6603d0@ausschreibungsradar.com
DTSTAMP:20260425T134927Z
DTSTART;VALUE=DATE:20260409
DTEND;VALUE=DATE:20260409
SUMMARY:Ausschreibung — Forstbetrieb Rothenburg: maschinelle Holzernte mit Harvester
DESCRIPTION:Phase: Ausschreibung | Beschreibung: Offizielle Ausschreibung mit Bieterfrist. | Link: https://ausschreibungsradar.com/ausschreibung/ee8f0d00-63c8-4260-902d-6ecd0205b8d5/ | Geschätzter Wert: 306000 €
URL:https://ausschreibungsradar.com/ausschreibung/ee8f0d00-63c8-4260-902d-6ecd0205b8d5/
END:VEVENT
BEGIN:VEVENT
UID:520dd8147e0b165c@ausschreibungsradar.com
DTSTAMP:20260425T134927Z
DTSTART;VALUE=DATE:20260413
DTEND;VALUE=DATE:20260413
SUMMARY:Zuschlag — Forstbetrieb Rothenburg: maschinelle Holzernte mit Harvester
DESCRIPTION:Phase: Zuschlag | Beschreibung: Vergabeergebnis — Auftrag wurde erteilt oder Verfahren beendet. | Link: https://ausschreibungsradar.com/ausschreibung/15f37133-9b76-44d8-abfd-6517b5419303/
URL:https://ausschreibungsradar.com/ausschreibung/15f37133-9b76-44d8-abfd-6517b5419303/
END:VEVENT
END:VCALENDAR
