BEGIN:VCALENDAR
VERSION:2.0
PRODID:-//AusschreibungsRadar//Timeline//DE
CALSCALE:GREGORIAN
METHOD:PUBLISH
X-WR-CALNAME:Projekt Stadtbahnprogramm Halle, Vorhaben 8.1/8.2 Dessauer Straße, A
X-WR-TIMEZONE:Europe/Berlin
BEGIN:VEVENT
UID:95fcc7ddcd7fc1ac@ausschreibungsradar.com
DTSTAMP:20260425T194053Z
DTSTART;VALUE=DATE:20240326
DTEND;VALUE=DATE:20240326
SUMMARY:Angebotsfrist — Stadtbahnprogramm Halle\, Vorhaben 8.1/8.2 Dessauer Straße\, A
DESCRIPTION:Phase: Ausschreibung | Beschreibung: Angebote werden eingeholt | Link: https://ausschreibungsradar.com/ausschreibung/ee942152-45c6-4ab6-9bf3-5165b152d221/
URL:https://ausschreibungsradar.com/ausschreibung/ee942152-45c6-4ab6-9bf3-5165b152d221/
END:VEVENT
BEGIN:VEVENT
UID:3a1fa7927e4a1813@ausschreibungsradar.com
DTSTAMP:20260425T194053Z
DTSTART;VALUE=DATE:20240205
DTEND;VALUE=DATE:20240205
SUMMARY:Ausschreibung — Stadtbahnprogramm Halle\, Vorhaben 8.1/8.2 Dessauer Straße\, A
DESCRIPTION:Phase: Ausschreibung | Beschreibung: Offizielle Ausschreibung mit Bieterfrist. | Link: https://ausschreibungsradar.com/ausschreibung/03ba93c2-cbae-4fca-9d07-203f24c2281d/
URL:https://ausschreibungsradar.com/ausschreibung/03ba93c2-cbae-4fca-9d07-203f24c2281d/
END:VEVENT
END:VCALENDAR
