BEGIN:VCALENDAR
VERSION:2.0
PRODID:-//AusschreibungsRadar//Timeline//DE
CALSCALE:GREGORIAN
METHOD:PUBLISH
X-WR-CALNAME:Projekt System- und Anwendungsbetreuung sowie Anwendungsentwicklung 
X-WR-TIMEZONE:Europe/Berlin
BEGIN:VEVENT
UID:c982fa9e3f9a0e26@ausschreibungsradar.com
DTSTAMP:20260426T031034Z
DTSTART;VALUE=DATE:20240805
DTEND;VALUE=DATE:20240805
SUMMARY:Ausschreibung — System- und Anwendungsbetreuung sowie Anwendungsentwicklung 
DESCRIPTION:Phase: Ausschreibung | Beschreibung: Angebote werden eingeholt | Link: https://ausschreibungsradar.com/ausschreibung/eec57361-fd7d-48a9-8ae4-b94422a9a81f/ | Geschätzter Wert: 8907000 €
URL:https://ausschreibungsradar.com/ausschreibung/eec57361-fd7d-48a9-8ae4-b94422a9a81f/
END:VEVENT
BEGIN:VEVENT
UID:b2822e46c87b0bb0@ausschreibungsradar.com
DTSTAMP:20260426T031034Z
DTSTART;VALUE=DATE:20241206
DTEND;VALUE=DATE:20241206
SUMMARY:Vergabeergebnis — System- und Anwendungsbetreuung sowie Anwendungsentwicklung 
DESCRIPTION:Phase: Vergabeergebnis | Beschreibung: Auftrag wurde zugeschlagen | Link: https://ausschreibungsradar.com/ausschreibung/8f6be092-dac2-405b-9bbb-f32031460e42/
URL:https://ausschreibungsradar.com/ausschreibung/8f6be092-dac2-405b-9bbb-f32031460e42/
END:VEVENT
END:VCALENDAR
