BEGIN:VCALENDAR
VERSION:2.0
PRODID:-//AusschreibungsRadar//Timeline//DE
CALSCALE:GREGORIAN
METHOD:PUBLISH
X-WR-CALNAME:Projekt Erstellung von Staubauwerken, Verwallungen und Höhenvermessu
X-WR-TIMEZONE:Europe/Berlin
BEGIN:VEVENT
UID:a9c8dbefcd7fdc57@ausschreibungsradar.com
DTSTAMP:20260425T013858Z
DTSTART;VALUE=DATE:20250519
DTEND;VALUE=DATE:20250519
SUMMARY:Ausschreibung — Erstellung von Staubauwerken\, Verwallungen und Höhenvermessu
DESCRIPTION:Phase: Ausschreibung | Beschreibung: Angebote werden eingeholt | Link: https://ausschreibungsradar.com/ausschreibung/ef14f5c2-ac89-4cbc-96a5-cc526f9bb00c/
URL:https://ausschreibungsradar.com/ausschreibung/ef14f5c2-ac89-4cbc-96a5-cc526f9bb00c/
END:VEVENT
BEGIN:VEVENT
UID:86476b9d5b1c4d1c@ausschreibungsradar.com
DTSTAMP:20260425T013858Z
DTSTART;VALUE=DATE:20250804
DTEND;VALUE=DATE:20250804
SUMMARY:Vergabeergebnis — Erstellung von Staubauwerken\, Verwallungen und Höhenvermessu
DESCRIPTION:Phase: Vergabeergebnis | Beschreibung: Auftrag wurde zugeschlagen | Link: https://ausschreibungsradar.com/ausschreibung/1dd0a223-3982-45a2-b906-be2251bb0213/
URL:https://ausschreibungsradar.com/ausschreibung/1dd0a223-3982-45a2-b906-be2251bb0213/
END:VEVENT
END:VCALENDAR
