BEGIN:VCALENDAR
VERSION:2.0
PRODID:-//AusschreibungsRadar//Timeline//DE
CALSCALE:GREGORIAN
METHOD:PUBLISH
X-WR-CALNAME:Projekt Aufbau einer VDI Serverlösung für BIM/CAD-Virtualisierung (C
X-WR-TIMEZONE:Europe/Berlin
BEGIN:VEVENT
UID:bead9a9f6c5f5a32@ausschreibungsradar.com
DTSTAMP:20260426T012938Z
DTSTART;VALUE=DATE:20251027
DTEND;VALUE=DATE:20251027
SUMMARY:Angebotsfrist — Aufbau einer VDI Serverlösung für BIM/CAD-Virtualisierung (C
DESCRIPTION:Phase: Ausschreibung | Beschreibung: Angebote werden eingeholt | Link: https://ausschreibungsradar.com/ausschreibung/ef15bad9-d383-44e1-9b26-b9a2934d4c30/
URL:https://ausschreibungsradar.com/ausschreibung/ef15bad9-d383-44e1-9b26-b9a2934d4c30/
END:VEVENT
BEGIN:VEVENT
UID:07a4267a447d8f0e@ausschreibungsradar.com
DTSTAMP:20260426T012938Z
DTSTART;VALUE=DATE:20250911
DTEND;VALUE=DATE:20250911
SUMMARY:Ausschreibung — Aufbau einer VDI Serverlösung für BIM/CAD-Virtualisierung (C
DESCRIPTION:Phase: Ausschreibung | Beschreibung: Offizielle Ausschreibung mit Bieterfrist. | Link: https://ausschreibungsradar.com/ausschreibung/a49190a9-b43c-476c-afd8-dd64d0db8a35/
URL:https://ausschreibungsradar.com/ausschreibung/a49190a9-b43c-476c-afd8-dd64d0db8a35/
END:VEVENT
BEGIN:VEVENT
UID:a4082c0859c97c75@ausschreibungsradar.com
DTSTAMP:20260426T012938Z
DTSTART;VALUE=DATE:20250911
DTEND;VALUE=DATE:20250911
SUMMARY:Ausschreibung — Aufbau einer VDI Serverlösung für BIM/CAD-Virtualisierung (C
DESCRIPTION:Phase: Ausschreibung | Beschreibung: Offizielle Ausschreibung mit Bieterfrist. | Link: https://ausschreibungsradar.com/ausschreibung/af414544-33c8-4065-8ad0-7dabf5e1c32a/
URL:https://ausschreibungsradar.com/ausschreibung/af414544-33c8-4065-8ad0-7dabf5e1c32a/
END:VEVENT
END:VCALENDAR
