BEGIN:VCALENDAR
VERSION:2.0
PRODID:-//AusschreibungsRadar//Timeline//DE
CALSCALE:GREGORIAN
METHOD:PUBLISH
X-WR-CALNAME:Projekt Lieferung eines Mittleren Löschfahrzeuges MLF für die Gemein
X-WR-TIMEZONE:Europe/Berlin
BEGIN:VEVENT
UID:5502812607a78cbb@ausschreibungsradar.com
DTSTAMP:20260425T194213Z
DTSTART;VALUE=DATE:20250327
DTEND;VALUE=DATE:20250327
SUMMARY:Zuschlag — Lieferung eines Mittleren Löschfahrzeuges MLF für die Gemein
DESCRIPTION:Phase: Zuschlag | Beschreibung: Vergabeergebnis — Auftrag wurde erteilt oder Verfahren beendet. | Link: https://ausschreibungsradar.com/ausschreibung/a5306198-c93c-4855-9789-f7052babb162/
URL:https://ausschreibungsradar.com/ausschreibung/a5306198-c93c-4855-9789-f7052babb162/
END:VEVENT
BEGIN:VEVENT
UID:9a6b4e06b756b60b@ausschreibungsradar.com
DTSTAMP:20260425T194213Z
DTSTART;VALUE=DATE:20250403
DTEND;VALUE=DATE:20250403
SUMMARY:Zuschlag — Lieferung eines Mittleren Löschfahrzeuges MLF für die Gemein
DESCRIPTION:Phase: Zuschlag | Beschreibung: Vergabeergebnis — Auftrag wurde erteilt oder Verfahren beendet. | Link: https://ausschreibungsradar.com/ausschreibung/ea1b4013-5dd4-4182-80b6-fefa2cf0f748/
URL:https://ausschreibungsradar.com/ausschreibung/ea1b4013-5dd4-4182-80b6-fefa2cf0f748/
END:VEVENT
BEGIN:VEVENT
UID:9a8a6a86daa6ceab@ausschreibungsradar.com
DTSTAMP:20260425T194213Z
DTSTART;VALUE=DATE:20250427
DTEND;VALUE=DATE:20250427
SUMMARY:Zuschlag — Lieferung eines Mittleren Löschfahrzeuges MLF für die Gemein
DESCRIPTION:Phase: Zuschlag | Beschreibung: Vergabeergebnis — Auftrag wurde erteilt oder Verfahren beendet. | Link: https://ausschreibungsradar.com/ausschreibung/cd97bed7-5711-4d3e-b915-7ea604b7a9ca/
URL:https://ausschreibungsradar.com/ausschreibung/cd97bed7-5711-4d3e-b915-7ea604b7a9ca/
END:VEVENT
BEGIN:VEVENT
UID:4ea7bd5ec008f9b7@ausschreibungsradar.com
DTSTAMP:20260425T194213Z
DTSTART;VALUE=DATE:20250704
DTEND;VALUE=DATE:20250704
SUMMARY:Angebotsfrist — Lieferung eines Mittleren Löschfahrzeuges MLF für die Gemein
DESCRIPTION:Phase: Ausschreibung | Beschreibung: Angebote werden eingeholt | Link: https://ausschreibungsradar.com/ausschreibung/ef4ac4b5-9a16-4a93-94da-13043d61e3a9/
URL:https://ausschreibungsradar.com/ausschreibung/ef4ac4b5-9a16-4a93-94da-13043d61e3a9/
END:VEVENT
BEGIN:VEVENT
UID:d8d2f0dd40523c71@ausschreibungsradar.com
DTSTAMP:20260425T194213Z
DTSTART;VALUE=DATE:20250604
DTEND;VALUE=DATE:20250604
SUMMARY:Ausschreibung — Lieferung eines Mittleren Löschfahrzeuges MLF für die Gemein
DESCRIPTION:Phase: Ausschreibung | Beschreibung: Offizielle Ausschreibung mit Bieterfrist. | Link: https://ausschreibungsradar.com/ausschreibung/e36877ac-c016-4006-a6c3-fdd644aebb13/
URL:https://ausschreibungsradar.com/ausschreibung/e36877ac-c016-4006-a6c3-fdd644aebb13/
END:VEVENT
BEGIN:VEVENT
UID:71fa76021a20bed2@ausschreibungsradar.com
DTSTAMP:20260425T194213Z
DTSTART;VALUE=DATE:20251001
DTEND;VALUE=DATE:20251001
SUMMARY:Vergabeergebnis — Lieferung eines Mittleren Löschfahrzeuges MLF für die Gemein
DESCRIPTION:Phase: Vergabeergebnis | Beschreibung: Alle Angebote ausgeschlossen | Link: https://ausschreibungsradar.com/ausschreibung/963e8d2a-acd1-4723-8529-de4c0083a8f8/
URL:https://ausschreibungsradar.com/ausschreibung/963e8d2a-acd1-4723-8529-de4c0083a8f8/
END:VEVENT
END:VCALENDAR
