BEGIN:VCALENDAR
VERSION:2.0
PRODID:-//AusschreibungsRadar//Timeline//DE
CALSCALE:GREGORIAN
METHOD:PUBLISH
X-WR-CALNAME:Projekt BLB NRW / Akademisches Kunstmuseum Instandsetzung_Estricharb
X-WR-TIMEZONE:Europe/Berlin
BEGIN:VEVENT
UID:839ce31fb001acd8@ausschreibungsradar.com
DTSTAMP:20260424T091237Z
DTSTART;VALUE=DATE:20250917
DTEND;VALUE=DATE:20250917
SUMMARY:Angebotsfrist — BLB NRW / Akademisches Kunstmuseum Instandsetzung_Estricharb
DESCRIPTION:Phase: Ausschreibung | Beschreibung: Angebote werden eingeholt | Link: https://ausschreibungsradar.com/ausschreibung/ef95446f-3615-4064-8eba-bf6c0dded359/
URL:https://ausschreibungsradar.com/ausschreibung/ef95446f-3615-4064-8eba-bf6c0dded359/
END:VEVENT
BEGIN:VEVENT
UID:b2f93519aa24690e@ausschreibungsradar.com
DTSTAMP:20260424T091237Z
DTSTART;VALUE=DATE:20250818
DTEND;VALUE=DATE:20250818
SUMMARY:Ausschreibung — BLB NRW / Akademisches Kunstmuseum Instandsetzung_Estricharb
DESCRIPTION:Phase: Ausschreibung | Beschreibung: Offizielle Ausschreibung mit Bieterfrist. | Link: https://ausschreibungsradar.com/ausschreibung/5172ae7c-a941-4bfb-8a5f-fcd492e6a572/
URL:https://ausschreibungsradar.com/ausschreibung/5172ae7c-a941-4bfb-8a5f-fcd492e6a572/
END:VEVENT
BEGIN:VEVENT
UID:34ecc80c58a2494b@ausschreibungsradar.com
DTSTAMP:20260424T091237Z
DTSTART;VALUE=DATE:20251118
DTEND;VALUE=DATE:20251118
SUMMARY:Vergabeergebnis — BLB NRW / Akademisches Kunstmuseum Instandsetzung_Estricharb
DESCRIPTION:Phase: Vergabeergebnis | Beschreibung: Auftrag wurde zugeschlagen | Link: https://ausschreibungsradar.com/ausschreibung/84a96c86-f7a6-47e8-88b4-597426668fff/
URL:https://ausschreibungsradar.com/ausschreibung/84a96c86-f7a6-47e8-88b4-597426668fff/
END:VEVENT
END:VCALENDAR
