BEGIN:VCALENDAR
VERSION:2.0
PRODID:-//AusschreibungsRadar//Timeline//DE
CALSCALE:GREGORIAN
METHOD:PUBLISH
X-WR-CALNAME:Projekt Vergabe einer Dienstleistungskonzession für den öffentlich g
X-WR-TIMEZONE:Europe/Berlin
BEGIN:VEVENT
UID:4733bde518db6fca@ausschreibungsradar.com
DTSTAMP:20260424T120554Z
DTSTART;VALUE=DATE:20240617
DTEND;VALUE=DATE:20240617
SUMMARY:Ausschreibung — Vergabe einer Dienstleistungskonzession für den öffentlich g
DESCRIPTION:Phase: Ausschreibung | Beschreibung: Angebote werden eingeholt | Link: https://ausschreibungsradar.com/ausschreibung/343ea22c-36a2-43c2-b7b7-5898f0a329f1/
URL:https://ausschreibungsradar.com/ausschreibung/343ea22c-36a2-43c2-b7b7-5898f0a329f1/
END:VEVENT
BEGIN:VEVENT
UID:22f6b1550e9b1092@ausschreibungsradar.com
DTSTAMP:20260424T120554Z
DTSTART;VALUE=DATE:20251030
DTEND;VALUE=DATE:20251030
SUMMARY:Vergabeergebnis — Vergabe einer Dienstleistungskonzession für den öffentlich g
DESCRIPTION:Phase: Vergabeergebnis | Beschreibung: Auftrag wurde zugeschlagen | Link: https://ausschreibungsradar.com/ausschreibung/efe2cd41-eb10-4488-a76d-9166818fd0bc/
URL:https://ausschreibungsradar.com/ausschreibung/efe2cd41-eb10-4488-a76d-9166818fd0bc/
END:VEVENT
END:VCALENDAR
