BEGIN:VCALENDAR
VERSION:2.0
PRODID:-//AusschreibungsRadar//Timeline//DE
CALSCALE:GREGORIAN
METHOD:PUBLISH
X-WR-CALNAME:Projekt Outsourcing AEMP
X-WR-TIMEZONE:Europe/Berlin
BEGIN:VEVENT
UID:fc57e1e8449c9fcc@ausschreibungsradar.com
DTSTAMP:20260425T115347Z
DTSTART;VALUE=DATE:20240201
DTEND;VALUE=DATE:20240201
SUMMARY:Ausschreibung — Outsourcing AEMP
DESCRIPTION:Phase: Ausschreibung | Beschreibung: Angebote werden eingeholt | Link: https://ausschreibungsradar.com/ausschreibung/f0836e97-0f02-452c-b687-331f9356139b/ | Geschätzter Wert: 8400000 €
URL:https://ausschreibungsradar.com/ausschreibung/f0836e97-0f02-452c-b687-331f9356139b/
END:VEVENT
BEGIN:VEVENT
UID:4b9c72d76a6aec27@ausschreibungsradar.com
DTSTAMP:20260425T115347Z
DTSTART;VALUE=DATE:20240205
DTEND;VALUE=DATE:20240205
SUMMARY:Ausschreibung — Outsourcing AEMP
DESCRIPTION:Phase: Ausschreibung | Beschreibung: Offizielle Ausschreibung mit Bieterfrist. | Link: https://ausschreibungsradar.com/ausschreibung/ted-75515-2024/
URL:https://ausschreibungsradar.com/ausschreibung/ted-75515-2024/
END:VEVENT
BEGIN:VEVENT
UID:9190f1bd849f6530@ausschreibungsradar.com
DTSTAMP:20260425T115347Z
DTSTART;VALUE=DATE:20241220
DTEND;VALUE=DATE:20241220
SUMMARY:Vergabeergebnis — Outsourcing AEMP
DESCRIPTION:Phase: Vergabeergebnis | Beschreibung: Sonstige Gründe | Link: https://ausschreibungsradar.com/ausschreibung/33dbeb4f-d34b-4de2-b525-b44fdfae51d2/
URL:https://ausschreibungsradar.com/ausschreibung/33dbeb4f-d34b-4de2-b525-b44fdfae51d2/
END:VEVENT
END:VCALENDAR
