BEGIN:VCALENDAR
VERSION:2.0
PRODID:-//AusschreibungsRadar//Timeline//DE
CALSCALE:GREGORIAN
METHOD:PUBLISH
X-WR-CALNAME:Projekt REZ Bayern_45ind_AA Kempten-Memmingen
X-WR-TIMEZONE:Europe/Berlin
BEGIN:VEVENT
UID:cb349467bed97d3a@ausschreibungsradar.com
DTSTAMP:20260424T091228Z
DTSTART;VALUE=DATE:20260122
DTEND;VALUE=DATE:20260122
SUMMARY:Ausschreibung — REZ Bayern_45ind_AA Kempten-Memmingen
DESCRIPTION:Phase: Ausschreibung | Beschreibung: Angebote werden eingeholt | Link: https://ausschreibungsradar.com/ausschreibung/4e9cc685-aaee-4dbe-a623-bd97582e2033/
URL:https://ausschreibungsradar.com/ausschreibung/4e9cc685-aaee-4dbe-a623-bd97582e2033/
END:VEVENT
BEGIN:VEVENT
UID:63dc4d79a882dc3e@ausschreibungsradar.com
DTSTAMP:20260424T091228Z
DTSTART;VALUE=DATE:20260421
DTEND;VALUE=DATE:20260421
SUMMARY:Vergabeergebnis — REZ Bayern_45ind_AA Kempten-Memmingen
DESCRIPTION:Phase: Vergabeergebnis | Beschreibung: Auftrag wurde zugeschlagen | Link: https://ausschreibungsradar.com/ausschreibung/f0ce16f2-642b-4010-8ddc-16283d613c7e/
URL:https://ausschreibungsradar.com/ausschreibung/f0ce16f2-642b-4010-8ddc-16283d613c7e/
END:VEVENT
END:VCALENDAR
