BEGIN:VCALENDAR
VERSION:2.0
PRODID:-//AusschreibungsRadar//Timeline//DE
CALSCALE:GREGORIAN
METHOD:PUBLISH
X-WR-CALNAME:Projekt Planungsleistungen TGA ALG 1-8 - Teilneubau und Sanierung de
X-WR-TIMEZONE:Europe/Berlin
BEGIN:VEVENT
UID:bf0a19256bf60572@ausschreibungsradar.com
DTSTAMP:20260426T042336Z
DTSTART;VALUE=DATE:20241209
DTEND;VALUE=DATE:20241209
SUMMARY:Angebotsfrist — Planungsleistungen TGA ALG 1-8 - Teilneubau und Sanierung de
DESCRIPTION:Phase: Ausschreibung | Beschreibung: Angebote werden eingeholt | Link: https://ausschreibungsradar.com/ausschreibung/f0f29b30-5bf9-4a4b-9b4f-54a7f7a7be2f/
URL:https://ausschreibungsradar.com/ausschreibung/f0f29b30-5bf9-4a4b-9b4f-54a7f7a7be2f/
END:VEVENT
BEGIN:VEVENT
UID:cd2e94a60171f1a9@ausschreibungsradar.com
DTSTAMP:20260426T042336Z
DTSTART;VALUE=DATE:20241108
DTEND;VALUE=DATE:20241108
SUMMARY:Ausschreibung — Planungsleistungen TGA ALG 1-8 - Teilneubau und Sanierung de
DESCRIPTION:Phase: Ausschreibung | Beschreibung: Offizielle Ausschreibung mit Bieterfrist. | Link: https://ausschreibungsradar.com/ausschreibung/ted-683299-2024/
URL:https://ausschreibungsradar.com/ausschreibung/ted-683299-2024/
END:VEVENT
BEGIN:VEVENT
UID:ee20088f614b96c4@ausschreibungsradar.com
DTSTAMP:20260426T042336Z
DTSTART;VALUE=DATE:20241125
DTEND;VALUE=DATE:20241125
SUMMARY:Zuschlag — Planungsleistungen TGA ALG 1-8 - Teilneubau und Sanierung de
DESCRIPTION:Phase: Zuschlag | Beschreibung: Vergabeergebnis — Auftrag wurde erteilt oder Verfahren beendet. | Link: https://ausschreibungsradar.com/ausschreibung/5f440365-c4f9-4219-be63-ef710c9b089c/
URL:https://ausschreibungsradar.com/ausschreibung/5f440365-c4f9-4219-be63-ef710c9b089c/
END:VEVENT
BEGIN:VEVENT
UID:af670a982594cc2f@ausschreibungsradar.com
DTSTAMP:20260426T042336Z
DTSTART;VALUE=DATE:20250127
DTEND;VALUE=DATE:20250127
SUMMARY:Vergabeergebnis — Planungsleistungen TGA ALG 1-8 - Teilneubau und Sanierung de
DESCRIPTION:Phase: Vergabeergebnis | Beschreibung: Auftrag wurde zugeschlagen | Link: https://ausschreibungsradar.com/ausschreibung/6585e4bf-1210-4096-8e80-3de1471ce113/
URL:https://ausschreibungsradar.com/ausschreibung/6585e4bf-1210-4096-8e80-3de1471ce113/
END:VEVENT
END:VCALENDAR
