BEGIN:VCALENDAR
VERSION:2.0
PRODID:-//AusschreibungsRadar//Timeline//DE
CALSCALE:GREGORIAN
METHOD:PUBLISH
X-WR-CALNAME:Projekt Altmark Klinikum gGmbH, Lieferung und Inbetriebnahme von End
X-WR-TIMEZONE:Europe/Berlin
BEGIN:VEVENT
UID:c9bfff7a1eb85b7c@ausschreibungsradar.com
DTSTAMP:20260425T011419Z
DTSTART;VALUE=DATE:20240517
DTEND;VALUE=DATE:20240517
SUMMARY:Angebotsfrist — Altmark Klinikum gGmbH\, Lieferung und Inbetriebnahme von End
DESCRIPTION:Phase: Ausschreibung | Beschreibung: Angebote werden eingeholt | Link: https://ausschreibungsradar.com/ausschreibung/f0f465f4-0624-499b-89c7-bc894ac03afc/
URL:https://ausschreibungsradar.com/ausschreibung/f0f465f4-0624-499b-89c7-bc894ac03afc/
END:VEVENT
BEGIN:VEVENT
UID:a9af05b4f509b4ec@ausschreibungsradar.com
DTSTAMP:20260425T011419Z
DTSTART;VALUE=DATE:20240318
DTEND;VALUE=DATE:20240318
SUMMARY:Ausschreibung — Altmark Klinikum gGmbH\, Lieferung und Inbetriebnahme von End
DESCRIPTION:Phase: Ausschreibung | Beschreibung: Offizielle Ausschreibung mit Bieterfrist. | Link: https://ausschreibungsradar.com/ausschreibung/fb301401-5fc3-4dbc-9da1-5f20a9271206/
URL:https://ausschreibungsradar.com/ausschreibung/fb301401-5fc3-4dbc-9da1-5f20a9271206/
END:VEVENT
BEGIN:VEVENT
UID:06a121bcaec51349@ausschreibungsradar.com
DTSTAMP:20260425T011419Z
DTSTART;VALUE=DATE:20241008
DTEND;VALUE=DATE:20241008
SUMMARY:Vergabeergebnis — Altmark Klinikum gGmbH\, Lieferung und Inbetriebnahme von End
DESCRIPTION:Phase: Vergabeergebnis | Beschreibung: Auftrag wurde zugeschlagen | Link: https://ausschreibungsradar.com/ausschreibung/70e5faa8-4c96-42e9-bffc-47caa57d16f8/
URL:https://ausschreibungsradar.com/ausschreibung/70e5faa8-4c96-42e9-bffc-47caa57d16f8/
END:VEVENT
END:VCALENDAR
