BEGIN:VCALENDAR
VERSION:2.0
PRODID:-//AusschreibungsRadar//Timeline//DE
CALSCALE:GREGORIAN
METHOD:PUBLISH
X-WR-CALNAME:Projekt 031-05 Metallbauarbeiten V - Rohrrahmentüren Trakt B
X-WR-TIMEZONE:Europe/Berlin
BEGIN:VEVENT
UID:6246ea1309e54643@ausschreibungsradar.com
DTSTAMP:20260425T185037Z
DTSTART;VALUE=DATE:20251204
DTEND;VALUE=DATE:20251204
SUMMARY:Angebotsfrist — 031-05 Metallbauarbeiten V - Rohrrahmentüren Trakt B
DESCRIPTION:Phase: Ausschreibung | Beschreibung: Angebote werden eingeholt | Link: https://ausschreibungsradar.com/ausschreibung/f14a68cd-42a8-4d18-b536-114bbc4c9603/
URL:https://ausschreibungsradar.com/ausschreibung/f14a68cd-42a8-4d18-b536-114bbc4c9603/
END:VEVENT
BEGIN:VEVENT
UID:41ef5c8e0dac2155@ausschreibungsradar.com
DTSTAMP:20260425T185037Z
DTSTART;VALUE=DATE:20260313
DTEND;VALUE=DATE:20260313
SUMMARY:Vergabeergebnis — 031-05 Metallbauarbeiten V - Rohrrahmentüren Trakt B
DESCRIPTION:Phase: Vergabeergebnis | Beschreibung: Auftrag wurde zugeschlagen | Link: https://ausschreibungsradar.com/ausschreibung/e12489cf-f521-4b91-8d09-635f40c5eb7d/ | Auftragnehmer: Glas Seele GmbH
URL:https://ausschreibungsradar.com/ausschreibung/e12489cf-f521-4b91-8d09-635f40c5eb7d/
END:VEVENT
END:VCALENDAR
