BEGIN:VCALENDAR
VERSION:2.0
PRODID:-//AusschreibungsRadar//Timeline//DE
CALSCALE:GREGORIAN
METHOD:PUBLISH
X-WR-CALNAME:Projekt Sanierungsmanagements "Prima.Klima.Ruhrmetropole", Vergabe I
X-WR-TIMEZONE:Europe/Berlin
BEGIN:VEVENT
UID:a8e4d317c488d769@ausschreibungsradar.com
DTSTAMP:20260425T162257Z
DTSTART;VALUE=DATE:20240726
DTEND;VALUE=DATE:20240726
SUMMARY:Angebotsfrist — Sanierungsmanagements "Prima.Klima.Ruhrmetropole"\, Vergabe I
DESCRIPTION:Phase: Ausschreibung | Beschreibung: Angebote werden eingeholt | Link: https://ausschreibungsradar.com/ausschreibung/f14b015d-c50e-479b-bd10-aba7280b2628/
URL:https://ausschreibungsradar.com/ausschreibung/f14b015d-c50e-479b-bd10-aba7280b2628/
END:VEVENT
BEGIN:VEVENT
UID:0fe723f7177680e5@ausschreibungsradar.com
DTSTAMP:20260425T162257Z
DTSTART;VALUE=DATE:20240621
DTEND;VALUE=DATE:20240621
SUMMARY:Ausschreibung — Sanierungsmanagements "Prima.Klima.Ruhrmetropole"\, Vergabe I
DESCRIPTION:Phase: Ausschreibung | Beschreibung: Offizielle Ausschreibung mit Bieterfrist. | Link: https://ausschreibungsradar.com/ausschreibung/8ac5e77b-6ea5-441b-95b9-ce1241fd5226/
URL:https://ausschreibungsradar.com/ausschreibung/8ac5e77b-6ea5-441b-95b9-ce1241fd5226/
END:VEVENT
BEGIN:VEVENT
UID:7f6950bc3c88b63c@ausschreibungsradar.com
DTSTAMP:20260425T162257Z
DTSTART;VALUE=DATE:20240621
DTEND;VALUE=DATE:20240621
SUMMARY:Ausschreibung — Sanierungsmanagements "Prima.Klima.Ruhrmetropole"\, Vergabe I
DESCRIPTION:Phase: Ausschreibung | Beschreibung: Offizielle Ausschreibung mit Bieterfrist. | Link: https://ausschreibungsradar.com/ausschreibung/dc988a76-be3c-4395-8341-cf35cc16727b/
URL:https://ausschreibungsradar.com/ausschreibung/dc988a76-be3c-4395-8341-cf35cc16727b/
END:VEVENT
BEGIN:VEVENT
UID:b6f9d3e72881ee98@ausschreibungsradar.com
DTSTAMP:20260425T162257Z
DTSTART;VALUE=DATE:20241031
DTEND;VALUE=DATE:20241031
SUMMARY:Vergabeergebnis — Sanierungsmanagements "Prima.Klima.Ruhrmetropole"\, Vergabe I
DESCRIPTION:Phase: Vergabeergebnis | Beschreibung: Auftrag wurde zugeschlagen | Link: https://ausschreibungsradar.com/ausschreibung/f8292117-4aa2-4e95-bd5b-58f1ac46cbbf/
URL:https://ausschreibungsradar.com/ausschreibung/f8292117-4aa2-4e95-bd5b-58f1ac46cbbf/
END:VEVENT
END:VCALENDAR
