BEGIN:VCALENDAR
VERSION:2.0
PRODID:-//AusschreibungsRadar//Timeline//DE
CALSCALE:GREGORIAN
METHOD:PUBLISH
X-WR-CALNAME:Projekt Bodenbelagsarbeiten
X-WR-TIMEZONE:Europe/Berlin
BEGIN:VEVENT
UID:9f5849523af82da4@ausschreibungsradar.com
DTSTAMP:20260424T055200Z
DTSTART;VALUE=DATE:20250411
DTEND;VALUE=DATE:20250411
SUMMARY:Angebotsfrist — Bodenbelagsarbeiten
DESCRIPTION:Phase: Ausschreibung | Beschreibung: Angebote werden eingeholt | Link: https://ausschreibungsradar.com/ausschreibung/f162bed9-3858-4378-9eeb-d72db0c54329/
URL:https://ausschreibungsradar.com/ausschreibung/f162bed9-3858-4378-9eeb-d72db0c54329/
END:VEVENT
BEGIN:VEVENT
UID:d7495e319dca89a5@ausschreibungsradar.com
DTSTAMP:20260424T055200Z
DTSTART;VALUE=DATE:20250508
DTEND;VALUE=DATE:20250508
SUMMARY:Vergabeergebnis — Bodenbelagsarbeiten
DESCRIPTION:Phase: Vergabeergebnis | Beschreibung: Auftrag wurde zugeschlagen | Link: https://ausschreibungsradar.com/ausschreibung/7c3f2e7d-6cba-4772-9ed2-933ddf6a1ad5/
URL:https://ausschreibungsradar.com/ausschreibung/7c3f2e7d-6cba-4772-9ed2-933ddf6a1ad5/
END:VEVENT
END:VCALENDAR
