BEGIN:VCALENDAR
VERSION:2.0
PRODID:-//AusschreibungsRadar//Timeline//DE
CALSCALE:GREGORIAN
METHOD:PUBLISH
X-WR-CALNAME:Projekt Markt Allersberg - Neubau Kinderhort mit Mensa - Architekt
X-WR-TIMEZONE:Europe/Berlin
BEGIN:VEVENT
UID:b79538a4a0a12dea@ausschreibungsradar.com
DTSTAMP:20260424T105547Z
DTSTART;VALUE=DATE:20250721
DTEND;VALUE=DATE:20250721
SUMMARY:Ausschreibung — Markt Allersberg - Neubau Kinderhort mit Mensa - Architekt
DESCRIPTION:Phase: Ausschreibung | Beschreibung: Angebote werden eingeholt | Link: https://ausschreibungsradar.com/ausschreibung/c2b3fafa-62c3-4362-9efc-d7b0d621f831/
URL:https://ausschreibungsradar.com/ausschreibung/c2b3fafa-62c3-4362-9efc-d7b0d621f831/
END:VEVENT
BEGIN:VEVENT
UID:f0737d08f7d7171d@ausschreibungsradar.com
DTSTAMP:20260424T105547Z
DTSTART;VALUE=DATE:20260108
DTEND;VALUE=DATE:20260108
SUMMARY:Vergabeergebnis — Markt Allersberg - Neubau Kinderhort mit Mensa - Architekt
DESCRIPTION:Phase: Vergabeergebnis | Beschreibung: Auftrag wurde zugeschlagen | Link: https://ausschreibungsradar.com/ausschreibung/f1f15b8b-931e-4e73-af26-dc51207575a7/
URL:https://ausschreibungsradar.com/ausschreibung/f1f15b8b-931e-4e73-af26-dc51207575a7/
END:VEVENT
BEGIN:VEVENT
UID:be0a36cc1c4d3fd5@ausschreibungsradar.com
DTSTAMP:20260424T105547Z
DTSTART;VALUE=DATE:20260108
DTEND;VALUE=DATE:20260108
SUMMARY:Zuschlag — Markt Allersberg - Neubau Kinderhort mit Mensa - Architekt
DESCRIPTION:Phase: Zuschlag | Beschreibung: Vergabeergebnis — Auftrag wurde erteilt oder Verfahren beendet. | Link: https://ausschreibungsradar.com/ausschreibung/0b8324d9-c086-47c1-a864-d13ee925b77b/
URL:https://ausschreibungsradar.com/ausschreibung/0b8324d9-c086-47c1-a864-d13ee925b77b/
END:VEVENT
BEGIN:VEVENT
UID:1cd6685404d3cd71@ausschreibungsradar.com
DTSTAMP:20260424T105547Z
DTSTART;VALUE=DATE:20260108
DTEND;VALUE=DATE:20260108
SUMMARY:Zuschlag — Markt Allersberg - Neubau Kinderhort mit Mensa - Architekt
DESCRIPTION:Phase: Zuschlag | Beschreibung: Vergabeergebnis — Auftrag wurde erteilt oder Verfahren beendet. | Link: https://ausschreibungsradar.com/ausschreibung/bd4fef0a-3e58-41d4-a3ba-adc199482757/
URL:https://ausschreibungsradar.com/ausschreibung/bd4fef0a-3e58-41d4-a3ba-adc199482757/
END:VEVENT
END:VCALENDAR
