BEGIN:VCALENDAR
VERSION:2.0
PRODID:-//AusschreibungsRadar//Timeline//DE
CALSCALE:GREGORIAN
METHOD:PUBLISH
X-WR-CALNAME:Projekt Einphasiger Wettbewerb "Zwei Türme für die Lippe" in Lippsta
X-WR-TIMEZONE:Europe/Berlin
BEGIN:VEVENT
UID:62088d09684e2876@ausschreibungsradar.com
DTSTAMP:20260424T182609Z
DTSTART;VALUE=DATE:20241002
DTEND;VALUE=DATE:20241002
SUMMARY:Ausschreibung — Einphasiger Wettbewerb "Zwei Türme für die Lippe" in Lippsta
DESCRIPTION:Phase: Ausschreibung | Beschreibung: Angebote werden eingeholt | Link: https://ausschreibungsradar.com/ausschreibung/f23931d9-b10f-44e0-b395-dd67d502d71d/
URL:https://ausschreibungsradar.com/ausschreibung/f23931d9-b10f-44e0-b395-dd67d502d71d/
END:VEVENT
BEGIN:VEVENT
UID:e10ed403f99b09b9@ausschreibungsradar.com
DTSTAMP:20260424T182609Z
DTSTART;VALUE=DATE:20250828
DTEND;VALUE=DATE:20250828
SUMMARY:Vergabeergebnis — Einphasiger Wettbewerb "Zwei Türme für die Lippe" in Lippsta
DESCRIPTION:Phase: Vergabeergebnis | Beschreibung: Auftrag wurde zugeschlagen | Link: https://ausschreibungsradar.com/ausschreibung/50d01583-99eb-44bb-8df1-d627f9b16fce/
URL:https://ausschreibungsradar.com/ausschreibung/50d01583-99eb-44bb-8df1-d627f9b16fce/
END:VEVENT
END:VCALENDAR
