BEGIN:VCALENDAR
VERSION:2.0
PRODID:-//AusschreibungsRadar//Timeline//DE
CALSCALE:GREGORIAN
METHOD:PUBLISH
X-WR-CALNAME:Projekt Kronberg Gymnasium 4. BA -Heizungsinstallation-
X-WR-TIMEZONE:Europe/Berlin
BEGIN:VEVENT
UID:f4fac8d4a502d41d@ausschreibungsradar.com
DTSTAMP:20260425T210749Z
DTSTART;VALUE=DATE:20240212
DTEND;VALUE=DATE:20240212
SUMMARY:Angebotsfrist — Kronberg Gymnasium 4. BA -Heizungsinstallation-
DESCRIPTION:Phase: Ausschreibung | Beschreibung: Angebote werden eingeholt | Link: https://ausschreibungsradar.com/ausschreibung/f287f03c-1b97-4e3a-888e-3e5332f4d9bb/
URL:https://ausschreibungsradar.com/ausschreibung/f287f03c-1b97-4e3a-888e-3e5332f4d9bb/
END:VEVENT
END:VCALENDAR
