BEGIN:VCALENDAR
VERSION:2.0
PRODID:-//AusschreibungsRadar//Timeline//DE
CALSCALE:GREGORIAN
METHOD:PUBLISH
X-WR-CALNAME:Projekt Erweiterung Grundschule Großschwarzenlohe - Metallbau
X-WR-TIMEZONE:Europe/Berlin
BEGIN:VEVENT
UID:a700919c5d1910f9@ausschreibungsradar.com
DTSTAMP:20260424T133300Z
DTSTART;VALUE=DATE:20250416
DTEND;VALUE=DATE:20250416
SUMMARY:Angebotsfrist — Erweiterung Grundschule Großschwarzenlohe - Metallbau
DESCRIPTION:Phase: Ausschreibung | Beschreibung: Angebote werden eingeholt | Link: https://ausschreibungsradar.com/ausschreibung/1befeca4-d59f-4685-9ab1-d0b204f4d186/ | Geschätzter Wert: 269000 €
URL:https://ausschreibungsradar.com/ausschreibung/1befeca4-d59f-4685-9ab1-d0b204f4d186/
END:VEVENT
BEGIN:VEVENT
UID:674ac824922e0077@ausschreibungsradar.com
DTSTAMP:20260424T133300Z
DTSTART;VALUE=DATE:20250513
DTEND;VALUE=DATE:20250513
SUMMARY:Ausschreibung — Erweiterung Grundschule Großschwarzenlohe - Metallbau
DESCRIPTION:Phase: Ausschreibung | Beschreibung: Offizielle Ausschreibung mit Bieterfrist. | Link: https://ausschreibungsradar.com/ausschreibung/b5e70c95-ef03-4433-8503-1abd4aac52f7/
URL:https://ausschreibungsradar.com/ausschreibung/b5e70c95-ef03-4433-8503-1abd4aac52f7/
END:VEVENT
BEGIN:VEVENT
UID:ea5aa3e1a30e5ca6@ausschreibungsradar.com
DTSTAMP:20260424T133300Z
DTSTART;VALUE=DATE:20250513
DTEND;VALUE=DATE:20250513
SUMMARY:Ausschreibung — Erweiterung Grundschule Großschwarzenlohe - Metallbau
DESCRIPTION:Phase: Ausschreibung | Beschreibung: Offizielle Ausschreibung mit Bieterfrist. | Link: https://ausschreibungsradar.com/ausschreibung/8ab2582d-e100-410b-a7bb-5275985802f9/
URL:https://ausschreibungsradar.com/ausschreibung/8ab2582d-e100-410b-a7bb-5275985802f9/
END:VEVENT
BEGIN:VEVENT
UID:a462fff302a2e285@ausschreibungsradar.com
DTSTAMP:20260424T133300Z
DTSTART;VALUE=DATE:20250603
DTEND;VALUE=DATE:20250603
SUMMARY:Zuschlag — Erweiterung Grundschule Großschwarzenlohe - Metallbau
DESCRIPTION:Phase: Zuschlag | Beschreibung: Vergabeergebnis — Auftrag wurde erteilt oder Verfahren beendet. | Link: https://ausschreibungsradar.com/ausschreibung/cdc41270-cc2d-4086-a493-cb13933e3417/
URL:https://ausschreibungsradar.com/ausschreibung/cdc41270-cc2d-4086-a493-cb13933e3417/
END:VEVENT
BEGIN:VEVENT
UID:af71ed4675ab4fc5@ausschreibungsradar.com
DTSTAMP:20260424T133300Z
DTSTART;VALUE=DATE:20250611
DTEND;VALUE=DATE:20250611
SUMMARY:Vergabeergebnis — Erweiterung Grundschule Großschwarzenlohe - Metallbau
DESCRIPTION:Phase: Vergabeergebnis | Beschreibung: Auftrag wurde zugeschlagen | Link: https://ausschreibungsradar.com/ausschreibung/f2e34bbb-2bf3-43d8-8145-a7afbf43e660/
URL:https://ausschreibungsradar.com/ausschreibung/f2e34bbb-2bf3-43d8-8145-a7afbf43e660/
END:VEVENT
BEGIN:VEVENT
UID:79d5056236302eb0@ausschreibungsradar.com
DTSTAMP:20260424T133300Z
DTSTART;VALUE=DATE:20250702
DTEND;VALUE=DATE:20250702
SUMMARY:Zuschlag — Erweiterung Grundschule Großschwarzenlohe - Metallbau
DESCRIPTION:Phase: Zuschlag | Beschreibung: Vergabeergebnis — Auftrag wurde erteilt oder Verfahren beendet. | Link: https://ausschreibungsradar.com/ausschreibung/7904db5f-4cca-4144-a3a1-5260b526be9f/
URL:https://ausschreibungsradar.com/ausschreibung/7904db5f-4cca-4144-a3a1-5260b526be9f/
END:VEVENT
END:VCALENDAR
