BEGIN:VCALENDAR
VERSION:2.0
PRODID:-//AusschreibungsRadar//Timeline//DE
CALSCALE:GREGORIAN
METHOD:PUBLISH
X-WR-CALNAME:Projekt Amt Eldenburg Lübz - Planungsleistung - Feuerwehrgebäude Kre
X-WR-TIMEZONE:Europe/Berlin
BEGIN:VEVENT
UID:243b89defba195c4@ausschreibungsradar.com
DTSTAMP:20260424T203407Z
DTSTART;VALUE=DATE:20241212
DTEND;VALUE=DATE:20241212
SUMMARY:Angebotsfrist — Amt Eldenburg Lübz - Planungsleistung - Feuerwehrgebäude Kre
DESCRIPTION:Phase: Ausschreibung | Beschreibung: Angebote werden eingeholt | Link: https://ausschreibungsradar.com/ausschreibung/f2f2a4a9-940b-4793-a554-4dc75bb34e16/
URL:https://ausschreibungsradar.com/ausschreibung/f2f2a4a9-940b-4793-a554-4dc75bb34e16/
END:VEVENT
BEGIN:VEVENT
UID:73a7f7564f76db48@ausschreibungsradar.com
DTSTAMP:20260424T203407Z
DTSTART;VALUE=DATE:20241104
DTEND;VALUE=DATE:20241104
SUMMARY:Ausschreibung — Amt Eldenburg Lübz - Planungsleistung - Feuerwehrgebäude Kre
DESCRIPTION:Phase: Ausschreibung | Beschreibung: Offizielle Ausschreibung mit Bieterfrist. | Link: https://ausschreibungsradar.com/ausschreibung/c2067b24-653d-4d70-ae5b-de3bc27b93dd/
URL:https://ausschreibungsradar.com/ausschreibung/c2067b24-653d-4d70-ae5b-de3bc27b93dd/
END:VEVENT
BEGIN:VEVENT
UID:ba1e6fcc5dcd3c68@ausschreibungsradar.com
DTSTAMP:20260424T203407Z
DTSTART;VALUE=DATE:20250123
DTEND;VALUE=DATE:20250123
SUMMARY:Vergabeergebnis — Amt Eldenburg Lübz - Planungsleistung - Feuerwehrgebäude Kre
DESCRIPTION:Phase: Vergabeergebnis | Beschreibung: Auftrag wurde zugeschlagen | Link: https://ausschreibungsradar.com/ausschreibung/3dedf96f-57da-49fe-af81-7df654b539a6/
URL:https://ausschreibungsradar.com/ausschreibung/3dedf96f-57da-49fe-af81-7df654b539a6/
END:VEVENT
END:VCALENDAR
