BEGIN:VCALENDAR
VERSION:2.0
PRODID:-//AusschreibungsRadar//Timeline//DE
CALSCALE:GREGORIAN
METHOD:PUBLISH
X-WR-CALNAME:Projekt OG Herxheim, Modernisierung Altes Rathaus, energetische Sani
X-WR-TIMEZONE:Europe/Berlin
BEGIN:VEVENT
UID:ca01b4df0751ede2@ausschreibungsradar.com
DTSTAMP:20260425T124257Z
DTSTART;VALUE=DATE:20251020
DTEND;VALUE=DATE:20251020
SUMMARY:Angebotsfrist — OG Herxheim\, Modernisierung Altes Rathaus\, energetische Sani
DESCRIPTION:Phase: Ausschreibung | Beschreibung: Angebote werden eingeholt | Link: https://ausschreibungsradar.com/ausschreibung/f325e1f8-5b0b-4096-bbb9-186221d88a46/
URL:https://ausschreibungsradar.com/ausschreibung/f325e1f8-5b0b-4096-bbb9-186221d88a46/
END:VEVENT
BEGIN:VEVENT
UID:3c57a71651c273d0@ausschreibungsradar.com
DTSTAMP:20260425T124257Z
DTSTART;VALUE=DATE:20250913
DTEND;VALUE=DATE:20250913
SUMMARY:Ausschreibung — OG Herxheim\, Modernisierung Altes Rathaus\, energetische Sani
DESCRIPTION:Phase: Ausschreibung | Beschreibung: Offizielle Ausschreibung mit Bieterfrist. | Link: https://ausschreibungsradar.com/ausschreibung/8d9cc318-f08e-4cf1-af23-d5720c034b0e/
URL:https://ausschreibungsradar.com/ausschreibung/8d9cc318-f08e-4cf1-af23-d5720c034b0e/
END:VEVENT
BEGIN:VEVENT
UID:97fb19647bebd35a@ausschreibungsradar.com
DTSTAMP:20260425T124257Z
DTSTART;VALUE=DATE:20251113
DTEND;VALUE=DATE:20251113
SUMMARY:Vergabeergebnis — OG Herxheim\, Modernisierung Altes Rathaus\, energetische Sani
DESCRIPTION:Phase: Vergabeergebnis | Beschreibung: Auftrag wurde zugeschlagen | Link: https://ausschreibungsradar.com/ausschreibung/83a1cde1-adf9-4d62-ae27-c3703b12749e/
URL:https://ausschreibungsradar.com/ausschreibung/83a1cde1-adf9-4d62-ae27-c3703b12749e/
END:VEVENT
END:VCALENDAR
