BEGIN:VCALENDAR
VERSION:2.0
PRODID:-//AusschreibungsRadar//Timeline//DE
CALSCALE:GREGORIAN
METHOD:PUBLISH
X-WR-CALNAME:Projekt Abschluss einer Rahmenvereinbarung über die Lieferung von Ei
X-WR-TIMEZONE:Europe/Berlin
BEGIN:VEVENT
UID:f956f03d9525dfb8@ausschreibungsradar.com
DTSTAMP:20260425T214722Z
DTSTART;VALUE=DATE:20251222
DTEND;VALUE=DATE:20251222
SUMMARY:Angebotsfrist — Abschluss einer Rahmenvereinbarung über die Lieferung von Ei
DESCRIPTION:Phase: Ausschreibung | Beschreibung: Angebote werden eingeholt | Link: https://ausschreibungsradar.com/ausschreibung/05a0ba7d-9838-4572-88c2-d6845239dea8/
URL:https://ausschreibungsradar.com/ausschreibung/05a0ba7d-9838-4572-88c2-d6845239dea8/
END:VEVENT
BEGIN:VEVENT
UID:5d6c1ebb8277eda9@ausschreibungsradar.com
DTSTAMP:20260425T214722Z
DTSTART;VALUE=DATE:20250919
DTEND;VALUE=DATE:20250919
SUMMARY:Ausschreibung — Abschluss einer Rahmenvereinbarung über die Lieferung von Ei
DESCRIPTION:Phase: Ausschreibung | Beschreibung: Offizielle Ausschreibung mit Bieterfrist. | Link: https://ausschreibungsradar.com/ausschreibung/c543f31b-7a57-4612-a336-8dc638f4be41/
URL:https://ausschreibungsradar.com/ausschreibung/c543f31b-7a57-4612-a336-8dc638f4be41/
END:VEVENT
BEGIN:VEVENT
UID:1c1a3b92c26a1000@ausschreibungsradar.com
DTSTAMP:20260425T214722Z
DTSTART;VALUE=DATE:20260122
DTEND;VALUE=DATE:20260122
SUMMARY:Zuschlag — Abschluss einer Rahmenvereinbarung über die Lieferung von Ei
DESCRIPTION:Phase: Zuschlag | Beschreibung: Vergabeergebnis — Auftrag wurde erteilt oder Verfahren beendet. | Link: https://ausschreibungsradar.com/ausschreibung/28f79d5c-1e6a-4eaf-9db4-f9a5fa007115/
URL:https://ausschreibungsradar.com/ausschreibung/28f79d5c-1e6a-4eaf-9db4-f9a5fa007115/
END:VEVENT
BEGIN:VEVENT
UID:9de0de5181feff3d@ausschreibungsradar.com
DTSTAMP:20260425T214722Z
DTSTART;VALUE=DATE:20260206
DTEND;VALUE=DATE:20260206
SUMMARY:Ausschreibung — Abschluss einer Rahmenvereinbarung über die Lieferung von Ei
DESCRIPTION:Phase: Ausschreibung | Beschreibung: Offizielle Ausschreibung mit Bieterfrist. | Link: https://ausschreibungsradar.com/ausschreibung/6979a6c5-34ca-4b34-9c44-260d93e15a3d/
URL:https://ausschreibungsradar.com/ausschreibung/6979a6c5-34ca-4b34-9c44-260d93e15a3d/
END:VEVENT
BEGIN:VEVENT
UID:0f52b70179400e36@ausschreibungsradar.com
DTSTAMP:20260425T214722Z
DTSTART;VALUE=DATE:20260212
DTEND;VALUE=DATE:20260212
SUMMARY:Vergabeergebnis — Abschluss einer Rahmenvereinbarung über die Lieferung von Ei
DESCRIPTION:Phase: Vergabeergebnis | Beschreibung: Auftrag wurde zugeschlagen | Link: https://ausschreibungsradar.com/ausschreibung/f32698a9-8bdf-4da7-b17a-bf5a2f2460b0/
URL:https://ausschreibungsradar.com/ausschreibung/f32698a9-8bdf-4da7-b17a-bf5a2f2460b0/
END:VEVENT
END:VCALENDAR
