BEGIN:VCALENDAR
VERSION:2.0
PRODID:-//AusschreibungsRadar//Timeline//DE
CALSCALE:GREGORIAN
METHOD:PUBLISH
X-WR-CALNAME:Projekt Lieferung von Leasingfahrzeugen für die Stadtverwaltung
X-WR-TIMEZONE:Europe/Berlin
BEGIN:VEVENT
UID:fd4c30ca58813b63@ausschreibungsradar.com
DTSTAMP:20260425T134621Z
DTSTART;VALUE=DATE:20231215
DTEND;VALUE=DATE:20231215
SUMMARY:Angebotsfrist — Lieferung von Leasingfahrzeugen für die Stadtverwaltung
DESCRIPTION:Phase: Ausschreibung | Beschreibung: Angebote werden eingeholt | Link: https://ausschreibungsradar.com/ausschreibung/f464dc90-eed5-4918-aa33-e15ccfc5e8db/
URL:https://ausschreibungsradar.com/ausschreibung/f464dc90-eed5-4918-aa33-e15ccfc5e8db/
END:VEVENT
BEGIN:VEVENT
UID:ebf3bc5d87999829@ausschreibungsradar.com
DTSTAMP:20260425T134621Z
DTSTART;VALUE=DATE:20231115
DTEND;VALUE=DATE:20231115
SUMMARY:Ausschreibung — Lieferung von Leasingfahrzeugen für die Stadtverwaltung
DESCRIPTION:Phase: Ausschreibung | Beschreibung: Offizielle Ausschreibung mit Bieterfrist. | Link: https://ausschreibungsradar.com/ausschreibung/ted-694670-2023/
URL:https://ausschreibungsradar.com/ausschreibung/ted-694670-2023/
END:VEVENT
END:VCALENDAR
